BEGIN:VCALENDAR
VERSION:2.0
PRODID:-//wp-events-plugin.com//7.2.3.1//EN
TZID:Australia/Sydney
X-WR-TIMEZONE:Australia/Sydney
BEGIN:VEVENT
UID:3016@unswoc.org
DTSTART;TZID=Australia/Sydney;VALUE=DATE:20220515
DTEND;TZID=Australia/Sydney;VALUE=DATE:20220516
DTSTAMP:20220505T150511Z
URL:https://unswoc.org/wordpress/events/sunday-bl-beginner-trad-climbing-m
 t-boyce/
SUMMARY:SUNDAY BL Beginner Trad Climbing Mt Boyce
DESCRIPTION:Scott and I (Pat) are leading a beginner climbing trip to Mt Bo
 yce. This is a great crag to get a taste of trad climbing\, with plenty of
  cracks to shove hands\, feet and gear into. You must be approved for Bore
 e Log to attend. \n\nThere'll be plenty of opportunity to toprope\, so yo
 u don’t need any climbing experience to join this trip. If you've got le
 ad experience or trad experience\, you're also more than welcome to join. 
 We'll be teaching trad climbing skills - the gear we use\, how to place ge
 ar safely and how to make trad anchors. Depending on how keen and comforta
 ble you are\, you'll be able to mock lead and practice placing gear or eve
 n lead some trad pitches.\n\nIn the sign up comment let us know how much c
 limbing experience you’ve got and what gear you have already\, as well a
 s anything in particular you want to learn on this trip.\n\nWe’ll be hea
 ding directly from camp in the morning\, so most of the gear you need will
  be provided – you don’t need to hire anything from the gear cupboard 
 beforehand. If you have your own gear\, please bring it with you! For this
  trip\, you’ll need:\n\n 	Climbing gear: Helmet*\, harness*\, belay dev
 ice*\, locking carabiner*\, climbing shoes\, maybe chalk bag\, climbing ta
 pe or crack gloves if you've got them (not essential\, but the back of you
 r hands might thank you).\n\n 	* These will be provided on the day if you
  haven’t got your own\n\n\n 	For clothing: Clothes that you feel comfort
 able climbing in\, extra layers and raincoat in case the weather isn’t v
 ery favourable.\n 	For eating: 2L of water\, food or snacks.\n 	Other gea
 r: sunscreen\, medicines if you need them (asthma puffer\, etc).\n\nPleas
 e mention if you’ve got a car when you sign up – the number of attende
 es will depend on the number of cars we’ve got available.\n\nYou need to
  be approved for the main Boree Log event to attend these trips. Please s
 ign up for only ONE trip per day. If you get rejected you can then sign 
 up for another trip\, this just makes it easier for volunteer trip leaders
 .\n\nPlease be aware that as the weather is unpredictable\, trip leaders m
 ay need to alter trips accordingly
CATEGORIES:Boree Log,Climbing,Outdoor Climbing
END:VEVENT
BEGIN:VTIMEZONE
TZID:Australia/Sydney
X-LIC-LOCATION:Australia/Sydney
BEGIN:STANDARD
DTSTART:20220403T020000
TZOFFSETFROM:+1100
TZOFFSETTO:+1000
TZNAME:AEST
END:STANDARD
END:VTIMEZONE
END:VCALENDAR