BEGIN:VCALENDAR
VERSION:2.0
PRODID:-//wp-events-plugin.com//7.2.3.1//EN
TZID:Australia/Sydney
X-WR-TIMEZONE:Australia/Sydney
BEGIN:VEVENT
UID:3335@unswoc.org
DTSTART;TZID=Australia/Sydney:20231014T000000
DTEND;TZID=Australia/Sydney:20231014T000000
DTSTAMP:20231006T020122Z
URL:https://unswoc.org/wordpress/events/sunday-bl-beginner-thompsons-pt-sp
 ort-climbing/
SUMMARY:SATURDAY BL - Beginner - Thompsons Pt Sport Climbing
DESCRIPTION:This trip is only for Boree Log participants\, check your trip 
 requests to see if you've been accepted. If you get rejected then you can 
 sign up for another trip\, this just makes it easier for volunteer trip le
 aders. Please be aware that as the weather is unpredictable\, trip leaders
  may need to alter trips accordingly.\n\nSign ups will open 9am Sunday Oct
 ober 8th\nMarcus\, William and I will be running a trip to Thompson's Pt
  for the Saturday of Boree Log.\n\nThis crag has world class climbing fro
 m beginner to advanced\, and we will take 7 participants. The approach for
  this crag is around 5 minutes and the carpark for the crag is here.\n\n\n
 \n[caption id="attachment_15731" align="alignnone" width="558"] Alfie on S
 hufflepuff[/caption]\n\n&nbsp\;\n\nGear Required for the trip (Bold can be
  taken from gear trailer on Saturday Morning)\n\n 	Climbing shoes\n 	Chalk
  \n 	Helmet\n 	Harness\n 	Safety\n 	Locking Biners\n 	Food/snacks for the
  day\n 	2L water\n 	Warm jacket\n 	Sunscreen\n 	Bag to carry everything\n\
 nIf you have read all of this information and this sounds like a trip you'
 re keen for\, you can sign up below.\n\n&nbsp\;\n\nNOTE Australian Citizen
 s - This trip falls on the day of the 2023 Australian Indigenous Voice Ref
 erendum. If you are an Australian citizen you are required to vote so you 
 must have done this beforehand! WE WILL NOT BE TAKING PEOPLE TO FIND VOTIN
 G CENTRES!\n\n&nbsp\;\n\nPlease comment:\n\n 	Whether you have prevoted / 
 or are exempt from voting in the Referendum \n 	Your climbing experience\
 n 	Weather you have a car and how many seats\n 	Favourite Aussie food\n
CATEGORIES:Boree Log
LOCATION:https://maps.app.goo.gl/pEgBozMzk3r6XX8c8
END:VEVENT
BEGIN:VTIMEZONE
TZID:Australia/Sydney
X-LIC-LOCATION:Australia/Sydney
BEGIN:DAYLIGHT
DTSTART:20231001T030000
TZOFFSETFROM:+1000
TZOFFSETTO:+1100
TZNAME:AEDT
END:DAYLIGHT
END:VTIMEZONE
END:VCALENDAR