BEGIN:VCALENDAR
VERSION:2.0
PRODID:-//wp-events-plugin.com//7.2.3.1//EN
TZID:Australia/Sydney
X-WR-TIMEZONE:Australia/Sydney
BEGIN:VEVENT
UID:2373@unswoc.org
DTSTART;VALUE=DATE:20190324
DTEND;VALUE=DATE:20190325
DTSTAMP:20200126T222814Z
URL:https://unswoc.org/wordpress/events/sunday-bl-beginner-hiking-pierces-
 pass-to-blue-gum-forest/
SUMMARY:SUNDAY BL – Beginner Hiking Pierces Pass to Blue Gum Forest!
DESCRIPTION:SUNDAY BOREE LOG – Beginner Hiking Pierces Pass to Blue Gum F
 orest!\n\nEvie and Alain will be leading a beginner/intermediate hiking t
 rip to Pierces Pass and the Blue Gum Forest. It´s a stunning 16 km hike 
 that croses the Grose River and enters the forest (find all the details he
 re: https://www.nationalparks.nsw.gov.au/things-to-do/walking-tracks/pier
 ces-pass-to-blue-gum-forest-walking-track). You must be approved for Bore
 e Log to attend.\n\n \n\nThe plan is to drive from the campground where we
  are camping (Cathedral Reserve at Mount Wilson) to the start of the hike 
 (15 min drive)\, spend an awesome day out and head back to Sydney in the 
 evening. You will need:\n\n 	For clothing: Comfortable hiking shoes and s
 port clothes. It can get quite hot (hat)\, quite chilly (fleece) or quite 
 wet (raincoat)\, so be prepared!\n 	For eating: 2-3 l of water\, food and
  snacks. Don't underestimate the amount of water\, there is no refill!\n 	
 Other gear: a torch (compulsory)\, sunscreen\, medicines if you need them
  (asthma puffer\, etc)\, a phone full of battery\, a bacpack to fit everyt
 hing.\n\nIf you have any questions message Evie Wilkins on facebook. Write
  down YOUR EXPERIENCE in the comments and whether you have A CAR 🙂
   We will make sure everyone has a SPOT IN A CAR TO GET BACK TO SYDNEY. 
 See you there!
CATEGORIES:Hectic Hiking
END:VEVENT
END:VCALENDAR