BEGIN:VCALENDAR
VERSION:2.0
PRODID:-//wp-events-plugin.com//7.2.3.1//EN
TZID:Australia/Sydney
X-WR-TIMEZONE:Australia/Sydney
BEGIN:VEVENT
UID:2549@unswoc.org
DTSTART;TZID=Australia/Sydney;VALUE=DATE:20191027
DTEND;TZID=Australia/Sydney;VALUE=DATE:20191028
DTSTAMP:20191023T052737Z
URL:https://unswoc.org/wordpress/events/sunday-bl-beginner-hike-probably-t
 o-the-glow-worm-tunnel-and-beyond/
SUMMARY:Sunday BL – Beginner Hike – (NEED 1 CAR) To the Glow Worm Tunne
 l and Beyond
DESCRIPTION:You must be attending and approved for the Boree Log main event
  to sign up for this trip.\n\nSunday Boree Log – Beginner Hiking Trip\, 
 route TBD\n\nNat and I (Oliver) will be running a beginners hike on the su
 nday of Boree Log for anyone keen and probably some who enjoy Saturday nig
 ht a lot =).\n\nWe will be walking to the Glow worm tunnel that was once a
  rail tunnel and is now part of a beautiful little rainforest like area.\n
 There are a number of route options depending on what we want to do and ho
 w we are feeling. I have mapped out a middleish one with 16 kms here:\nhtt
 ps://www.komoot.com/tour/99971660?ref=wtd\n\nI believe the whole walk is o
 n pretty decent ground expect through the tunnel itself where ankles can b
 e an issue due to not being able to see where your putting your feet 🙂\
 n\n\nThis is a rough packing list but this is a fairly simple walk/hike so
  im sure you can figure it out yourselves. We will eat lunch out on the tr
 ail somewhere so bring something suitable. Its not expected to rain but wh
 en was the last time the forecast was right?\n\n\n\n 	For clothing: Comfo
 rtable hiking shoes and sport clothes. It can get quite hot (hat)\, quite 
 chilly (fleece) or quite wet (raincoat)\, so be prepared!\n 	For eating: 2
 -3 l of water\, food and snacks. Don’t underestimate the amount of water
 \, there is likely no refill!\n 	Other gear: a torch might be handy in the
  tunnel\, sunscreen\, medicines if you need them (asthma puffer\, etc)\, a
  phone full of battery\, a backpack to fit everything.\n\n\n\nIf you have 
 any questions message Oliver Nicholls (me) on facebook.\n\nWrite down YOUR
  EXPERIENCE in the comments and whether you have A CAR. We will make su
 re everyone has a SPOT IN A CAR TO GET BACK TO SYDNEY. See you there!\n\n
ATTACH;FMTTYPE=image/jpeg:https://unswoc.org/wordpress/wp-content/uploads/
 2019/10/glow-worm-tunnel-walk-01.jpg
CATEGORIES:Bushwalking
END:VEVENT
BEGIN:VTIMEZONE
TZID:Australia/Sydney
X-LIC-LOCATION:Australia/Sydney
BEGIN:DAYLIGHT
DTSTART:20191006T030000
TZOFFSETFROM:+1000
TZOFFSETTO:+1100
TZNAME:AEDT
END:DAYLIGHT
END:VTIMEZONE
END:VCALENDAR