BEGIN:VCALENDAR
VERSION:2.0
PRODID:-//wp-events-plugin.com//7.2.3.1//EN
TZID:Australia/Sydney
X-WR-TIMEZONE:Australia/Sydney
BEGIN:VEVENT
UID:3397@unswoc.org
DTSTART;TZID=Australia/Sydney;VALUE=DATE:20240317
DTEND;TZID=Australia/Sydney;VALUE=DATE:20240318
DTSTAMP:20240303T085001Z
URL:https://unswoc.org/wordpress/events/sunday-bl-beginner-foraging-botany
 -hike/
SUMMARY:SUNDAY BL - beginner foraging/botany hike
DESCRIPTION:For those with a blossoming interest in the botanical\, biologi
 cal\, and ecological\, we present the Sunday bore log botanical extravagan
 za. Hosted by yours truly Margot Mason and Leo Lovesy the clubs foremost s
 hit talking amateur botanists\, this hike will feature hours of knowledge 
 on the basis of plants\, their edibility and their beautiful functions. Al
 ternatively we may instead weather permitting (cold and rainy weather in t
 he week before) stretch our fungal knowledge and wander around the surroun
 ding pine forests exploring for pine mushrooms.\nThere’s no requirement 
 that you have any understanding of plant science or the wonders of Austral
 ian nature but we do have some requirements of you for this hike.\n- Sun p
 rotection\n- Comfy shoes\n- Water (2 litres)\n- Lunch\n- If you have any c
 ool guide books bring them along!\nIf you are as excited as we are for the
  first of our annual boree log botanical/fungal trips please let us know i
 n the comments\n- Where you sit on the spectrum of “massively stoked to 
 check out cool plants” to “I just want to haul my hungover ass back to
  Sydney on Sunday and this trip seems like the least strenuous” (which i
 s okay too).\n- How much dirt did you eat as a child and how many allergie
 s do you have today if any (these are related and its really important I k
 now thank you &lt\;3)\n- If you have a car\, where you will be headed back
  to on Sunday night (to make sure well be okay with lifts)\n\nYou need to 
 be approved for the main Boree Log event to attend these trips. Please sig
 n up for only ONE trip per day. If you get rejected you can then sign up f
 or another trip\, this just makes it easier for volunteer trip leaders. Pl
 ease be aware that as the weather is unpredictable\, trip leaders may need
  to alter trips accordingly.\n\n&nbsp\;\n\n
CATEGORIES:Hectic Hiking
LOCATION:https://goo.gl/maps/D5wUjEeLWnZpgYGp6
END:VEVENT
BEGIN:VTIMEZONE
TZID:Australia/Sydney
X-LIC-LOCATION:Australia/Sydney
BEGIN:DAYLIGHT
DTSTART:20231001T030000
TZOFFSETFROM:+1000
TZOFFSETTO:+1100
TZNAME:AEDT
END:DAYLIGHT
END:VTIMEZONE
END:VCALENDAR