BEGIN:VCALENDAR
VERSION:2.0
PRODID:-//wp-events-plugin.com//7.2.3.1//EN
TZID:Australia/Sydney
X-WR-TIMEZONE:Australia/Sydney
BEGIN:VEVENT
UID:2381@unswoc.org
DTSTART;VALUE=DATE:20190324
DTEND;VALUE=DATE:20190325
DTSTAMP:20190312T110054Z
URL:https://unswoc.org/wordpress/events/sunday-bl-beginner-climbing-mt-yor
 k/
SUMMARY:Sunday BL - beginner climbing at Mt York
DESCRIPTION:On the Sunday of Boree Log James and I are going to be leading 
 a chilled out climbing trip to Mt York. It’s a great area and it’ll be
  a good recovery trip after party night. This is a beginner trip so you do
 n’t need to have any experience to come along. Even if you’ve only bee
 n to the climbing gym a couple of times Mt York will be well worth your wh
 ile.\n\nClimbing gear can be borrowed from the club on the Sunday morning\
 , but if you have personal gear make sure you bring it so we can be sure t
 hat there’ll be enough for all the trips going out. Necessary gear that 
 you can get from the club is: Harness\, helmet\, belay device with locking
  carabiner. Chalk and climbing shoes are also a good idea.\n\nAlso make su
 re you bring:\n\n 	Water\n 	Food\n 	Comfortable shoes to walk in\n 	Pack t
 o put things in\n 	Jacket/warm clothing in case it gets cold\n 	sunscreen\
 n\n\n\nYou must be approved for Boree Log to attend this trip!
CATEGORIES:Outdoor Climbing
END:VEVENT
END:VCALENDAR