BEGIN:VCALENDAR
VERSION:2.0
PRODID:-//wp-events-plugin.com//7.2.3.1//EN
TZID:Australia/Sydney
X-WR-TIMEZONE:Australia/Sydney
BEGIN:VEVENT
UID:2375@unswoc.org
DTSTART;VALUE=DATE:20190324
DTEND;VALUE=DATE:20190325
DTSTAMP:20190312T110223Z
URL:https://unswoc.org/wordpress/events/sunday-bl-beginner-climbing-at-med
 low-bath/
SUMMARY:SUNDAY BL – BEGINNER CLIMBING AT Medlow Bath
DESCRIPTION:SUNDAY BL – BEGINNER CLIMBING AT Medlow Bath\n\nBrendon and 
 I (Jeffrey) will be leading a beginner friendly climbing trip to Medlow B
 ath. Medlow Bath is a beginner friendly crag with multiple climbs graded 
 from 14 all the way to 23 if you are looking to challenge yourself. So if
  you are planning to recover from a hangover\, this is the trip for you. F
 or more info\, have a look here: https://www.thecrag.com/climbing/austral
 ia/blue-mountains/medlow-bath.\n\n\n\n\nThe plan is to drive from the camp
 ground where we are camping on Saturday night (Cathedral Reserve at Mount 
 Wilson) to the crag\, where we will set up top ropes for everyone to clim
 b. No climbing experience is required. If you are a competent lead climber
  and lead belayer\, you´re welcome to do your own thing. It will be an aw
 esome day out and you will need:\n\n 	Climbing gear: A harness*\, a helme
 t* and locking carabiner* attached to an ATC* (* = could be borrowed from 
 the club). Optional but recommended chalk bag and climbing shoes.\n 	For c
 lothing: Sport clothes. It can get quite hot or quite chilly\, so be prep
 ared for both.\n 	For eating: 2L of water\, food or snacks\, chocolate fo
 r the trip leaders please.\n 	Other gear: Sunscreen\, medicines if you ne
 ed them (asthma puffer\, etc).\n\nIf you have any questions message Brendo
 n or me (Jeffrey Kwan) on facebook. Write down YOUR EXPERIENCE in the co
 mments\, what gear do you have\, whether you have A CAR and what is your 
 least favourite fruit. We will make sure everyone has a SPOT IN A CAR TO
  GET BACK TO SYDNEY. See you there!\n\nPS: You must be approved for Boree 
 Log to attend. c:\n\n
CATEGORIES:Boree Log,Outdoor Climbing
END:VEVENT
END:VCALENDAR