BEGIN:VCALENDAR
VERSION:2.0
PRODID:-//wp-events-plugin.com//7.2.3.1//EN
TZID:Australia/Sydney
X-WR-TIMEZONE:Australia/Sydney
BEGIN:VEVENT
UID:3389@unswoc.org
DTSTART;TZID=Australia/Sydney;VALUE=DATE:20240317
DTEND;TZID=Australia/Sydney;VALUE=DATE:20240318
DTSTAMP:20240310T104337Z
URL:https://unswoc.org/wordpress/events/sunday-bl-beginner-climbing-at-med
 low-bath-3/
SUMMARY:[FULL] SUNDAY BL - MEDLOW BATH Beginner Sport Climbing
DESCRIPTION:Aaron and I will be leading a beginner climbing trip to Medlow 
 Bath (or other location tbd). Find all the details here: https://www.thecr
 ag.com/en/climbing/australia/blue-mountains/medlow-bath . You must be app
 roved for Boree Log to attend.\n\nThe plan is to drive from the campground
  where we are camping on Saturday night to the crag\, where we will set 
 up top ropes for everyone to climb. No climbing experience is needed. If y
 ou´re a competent lead climber and lead belayer\, you're also welcome. It
  will be an awesome day out and you will need:\n\n 	Climbing gear: A harn
 ess*\, a helmet* and locking carabiner* attached to an ATC* (* = club will
  provide it). Optional but recommended chalk bag and climbing shoes.\n 	Fo
 r clothing: Sport clothes. It can get quite hot or quite chilly\, so be p
 repared for both.\n 	For eating: 2 l of water\, food or snacks.\n 	Other g
 ear: sunscreen\, medicines if you need them (asthma puffer\, etc).\n\nNumb
 er of attendees will depend on the number of cars available. Please mentio
 n if you have a car.\n\nYou need to be approved for the main Boree Log eve
 nt to attend these trips. Please sign up for only ONE trip per day. If you
  get rejected you can then sign up for another trip\, this just makes it e
 asier for volunteer trip leaders.\n\nPlease be aware that as the weather i
 s unpredictable\, trip leaders may need to alter trips accordingly\n\n
LOCATION:https://www.google.com/maps/dir/?api=1&destination=-33.680774,150.
 277210
END:VEVENT
BEGIN:VTIMEZONE
TZID:Australia/Sydney
X-LIC-LOCATION:Australia/Sydney
BEGIN:DAYLIGHT
DTSTART:20231001T030000
TZOFFSETFROM:+1000
TZOFFSETTO:+1100
TZNAME:AEDT
END:DAYLIGHT
END:VTIMEZONE
END:VCALENDAR