BEGIN:VCALENDAR
VERSION:2.0
PRODID:-//wp-events-plugin.com//7.2.3.1//EN
TZID:Australia/Sydney
X-WR-TIMEZONE:Australia/Sydney
BEGIN:VEVENT
UID:3226@unswoc.org
DTSTART;TZID=Australia/Sydney;VALUE=DATE:20230319
DTEND;TZID=Australia/Sydney;VALUE=DATE:20230320
DTSTAMP:20230310T234455Z
URL:https://unswoc.org/wordpress/events/sunday-bl-beginner-climbing-at-med
 low-bath-2/
SUMMARY:SUNDAY BL - Beginner Climbing at Medlow Bath
DESCRIPTION:Bennett and I (Oliver) will lead be leading a hectic climbing t
 rip on Sunday. Trip is very beginner friendly - we're headed to Medlow Bat
 h (Sunbath Crag) for some chill sport climbing.\nWe'll meet at the Boree L
 og campground Sunday morning and head down together to Medlow Bath.\n\nhtt
 ps://www.thecrag.com/en/climbing/australia/blue-mountains/medlow-bath/area
 /13143367\nTell me why you’re keen (and whether you have a car + spots) 
 in the comments \n\nYou will need:\n\n*Helmet\n*Harness\n*Belay device + L
 ocking Carabiner\n*Climbing Shoes\nFood + water (at least 2L!!)\nBackpack 
 to carry the above\nwarm clothing (potentially - check the weather!)\npetr
 ol money for your driver\ngood vibes\n*These items can be borrowed the mor
 ning of Boree Log\, but it may run out so BYO if you have it to avoid disa
 ppointment.\n\nYou must be approved to the main Boree Log event to attend 
 these trips. If you get rejected then you can sign up for another trip\, t
 his just makes it easier for volunteer trip leaders. Please be aware that 
 as the weather is unpredictable\, trip leaders may need to alter trips acc
 ordingly.
END:VEVENT
BEGIN:VTIMEZONE
TZID:Australia/Sydney
X-LIC-LOCATION:Australia/Sydney
BEGIN:DAYLIGHT
DTSTART:20221002T030000
TZOFFSETFROM:+1000
TZOFFSETTO:+1100
TZNAME:AEDT
END:DAYLIGHT
END:VTIMEZONE
END:VCALENDAR