BEGIN:VCALENDAR
VERSION:2.0
PRODID:-//wp-events-plugin.com//7.2.3.1//EN
TZID:Australia/Sydney
X-WR-TIMEZONE:Australia/Sydney
BEGIN:VEVENT
UID:2372@unswoc.org
DTSTART;VALUE=DATE:20190324
DTEND;VALUE=DATE:20190325
DTSTAMP:20190312T110143Z
URL:https://unswoc.org/wordpress/events/sunday-bl-beginner-climbing-at-dam
 -cliffs/
SUMMARY:SUNDAY BL – BEGINNER CLIMBING AT DAM CLIFFS
DESCRIPTION:SUNDAY BOREE LOG – BEGINNER CLIMBING AT DAM CLIFFS\n\nKieran\
 , Ringo and I (Maria) will be leading a beginner climbing trip to Dam Cli
 ffs. Dam Cliffs is the paradise for chill climbing\, deep water solo\, sw
 imming\, cliff jumping\, and very easy (grade 10) to very hard (grade 28) 
 sport climbing routes (find all the details here: https://www.thecrag.com
 /climbing/australia/blue-mountains/the-dams-cliffs). You must be approved
  for Boree Log to attend.\n\n\n\nThe plan is to drive from the campground 
 where we are camping on Saturday night (Cathedral Reserve at Mount Wilson)
  to the crag\, where we will set up top ropes for everyone to climb. No cl
 imbing experience is needed. If you´re a competent lead climber and lead 
 belayer\, you´re also welcomed. It will be an awesome day out and you wil
 l need:\n\n 	Climbing gear: A harness*\, a helmet* and locking carabiner*
  attached to an ATC* (* = club will provide it). Optional but recommended 
 chalk bag and climbing shoes.\n 	For clothing: Sport clothes. It can get 
 quite hot or quite chilly\, so be prepared for both.\n 	For eating: 2 l o
 f water\, food or snacks\, chocolate for the trip leaders please.\n 	Other
  gear: swimmers\, sunscreen\, medicines if you need them (asthma puffer\,
  etc).\n\nIf you have any questions message me Maria LC on facebook. Write
  down YOUR EXPERIENCE in the comments and whether you have A CAR 🙂  W
 e will make sure everyone has a SPOT IN A CAR TO GET BACK TO SYDNEY. See y
 ou there!\n\nYou must be approved for Boree Log to attend this trip!
CATEGORIES:Outdoor Climbing
END:VEVENT
END:VCALENDAR