BEGIN:VCALENDAR
VERSION:2.0
PRODID:-//wp-events-plugin.com//7.2.3.1//EN
TZID:Australia/Sydney
X-WR-TIMEZONE:Australia/Sydney
BEGIN:VEVENT
UID:3346@unswoc.org
DTSTART;TZID=Australia/Sydney;VALUE=DATE:20231015
DTEND;TZID=Australia/Sydney;VALUE=DATE:20231016
DTSTAMP:20231012T133005Z
URL:https://unswoc.org/wordpress/events/sunday-bl-beginner-cascades-fall-c
 anyon-2/
SUMMARY:[FULL] SUNDAY BL - Beginner - Cascades Fall Canyon 2
DESCRIPTION:This trip is only for Boree Log participants\, check your trip 
 requests to see if you’ve been accepted. If you get rejected then you ca
 n sign up for another trip\, this just makes it easier for volunteer trip 
 leaders. Please be aware that as the weather is unpredictable\, trip leade
 rs may need to alter trips accordingly.\n\nSign ups will open 9am Sunday 
 October 8th\nZee\, Liam M and I (Cindy) are leading a beginner friendly ca
 nyoning trip to Cascade Falls\, some track notes can be found here. It’l
 l be a half day trip with a short walk\, abseiling through waterfalls\, sw
 ims and maybe a jump! We can take 5 participants\, so get in quick!\n\nWha
 t do I need to bring?\n\n 	Dry bag\n 	Helmet*\n 	Harness*\n 	Descender (fi
 gure 8)*\n 	Safety Sling*\n 	2 x locking carabiners*\n 	Enclosed grippy sh
 oes (these will get wet and muddy)\n 	3-5mm wetsuit*\n 	Shorts to go over 
 and protect your wetsuit\n 	Rain/spray jacket\n 	Headtorch\n 	Emergency bl
 anket (can be purchased from the club for $5)\n 	Warm clothes (bring a set
  of thermals to leave in the drybag\, no cotton)\n 	At least 2L of water\n
  	Food and snacks for the day\n 	Personal medication (e.g. epipen\, asthma
  puffer)\n 	Backpack to fit all of the above (will get wet)*\n 	Nice-to-ha
 ves:\n\n 	Thongs to leave in the car\n 	Gloves to keep your hands warm\n 	
 Neoprene/merino socks to keep the toes toasty\n 	Whistle\n 	Towel\n 	Phone
 /camera\, preferably waterproof or leave in your drybag (triple bag it inc
 ase)\n\n\n\n*Can be borrowed from the club for free for this trip. Gear wi
 ll be organised at Boree Log.\n\nIn the comments please include:\n\n\n 	Yo
 ur canyoning and/or cold water swimming experience (it’s completely fine
  to be an absolute beginner!)\n 	What gear you have/need (preference for t
 hose with wetsuits)\n 	If you’ve done an early vote for the Referendum
  (only applicable to Australian Citizens)\n 	If you have a car\, the numb
 er of spots and where you’ll be driving back to\n
ATTACH;FMTTYPE=image/jpeg:https://unswoc.org/wordpress/wp-content/uploads/
 2023/10/Cascades.jpg
CATEGORIES:Canyoning
LOCATION:https://maps.app.goo.gl/DeQyGoVgjV3ShCZh7
END:VEVENT
BEGIN:VTIMEZONE
TZID:Australia/Sydney
X-LIC-LOCATION:Australia/Sydney
BEGIN:DAYLIGHT
DTSTART:20231001T030000
TZOFFSETFROM:+1000
TZOFFSETTO:+1100
TZNAME:AEDT
END:DAYLIGHT
END:VTIMEZONE
END:VCALENDAR