BEGIN:VCALENDAR
VERSION:2.0
PRODID:-//wp-events-plugin.com//7.2.3.1//EN
TZID:Australia/Sydney
X-WR-TIMEZONE:Australia/Sydney
BEGIN:VEVENT
UID:3332@unswoc.org
DTSTART;TZID=Australia/Sydney;VALUE=DATE:20231015
DTEND;TZID=Australia/Sydney;VALUE=DATE:20231016
DTSTAMP:20231010T025023Z
URL:https://unswoc.org/wordpress/events/sunday-bl-beginner-cascade-falls-c
 anyon/
SUMMARY:[FULL] SUNDAY BL - Beginner - Cascade Falls Canyon
DESCRIPTION:This trip is only for Boree Log participants\, check your trip 
 requests to see if you've been accepted. If you get rejected then you can 
 sign up for another trip\, this just makes it easier for volunteer trip le
 aders. Please be aware that as the weather is unpredictable\, trip leaders
  may need to alter trips accordingly.\n\nSign ups will open 9am Sunday Oct
 ober 8th\nAlfie\, Lloyd and I are leading a beginner friendly canyoning tr
 ip to Cascade Falls\, some track notes can be found here. It'll be a half 
 day trip with a short walk\, abseiling through waterfalls\, swims and mayb
 e a jump! We can take 5 participants\, so get in quick!\n\n[caption id="at
 tachment_15683" align="alignnone" width="1024"] William at Kalang Falls[/c
 aption]\n\nWhat do I need to bring?\n\n 	Dry bag*\n 	Helmet*\n 	Harness*\n
  	Descender (figure 8)*\n 	Safety Sling*\n 	2 x locking carabiners*\n 	Enc
 losed grippy shoes (these will get wet and muddy)\n 	3-5mm wetsuit*\n 	Sho
 rts to go over and protect your wetsuit\n 	Rain/spray jacket\n 	Headtorch\
 n 	Emergency blanket (can be purchased from the club for $5)\n 	Warm cloth
 es (bring a set of thermals to leave in the drybag\, no cotton)\n 	At leas
 t 2L of water\n 	Food and snacks for the day\n 	Personal medication (e.g. 
 epipen\, asthma puffer)\n 	Backpack to fit all of the above (will get wet)
 *\n 	Nice-to-haves:\n\n 	Thongs to leave in the car\n 	Gloves to keep your
  hands warm\n 	Neoprene/merino socks to keep the toes toasty\n 	Whistle\n 
 	Towel\n 	Phone/camera\, preferably waterproof or leave in your drybag (tr
 iple bag it incase)\n\n\n\n*Can be borrowed from the club for free for thi
 s trip. Gear will be organised at Boree Log.\n\nIn the comments please inc
 lude:\n\n\n 	Your canyoning and/or cold water swimming experience (it's co
 mpletely fine to be an absolute beginner!)\n 	What gear you have/need (pre
 ference for those with wetsuits)\n 	If you've done an early vote for the R
 eferendum (only applicable to Australian Citizens)\n 	If you have a car\, 
 the number of spots and where you'll be driving back to\n\nCheers\,\n\nLin
 na\n\n&nbsp\;
ATTACH;FMTTYPE=image/jpeg:https://unswoc.org/wordpress/wp-content/uploads/
 2023/10/Screen-Shot-2023-10-05-at-12.06.47-pm.png
CATEGORIES:Boree Log,Canyoning
LOCATION:https://maps.app.goo.gl/DeQyGoVgjV3ShCZh7
END:VEVENT
BEGIN:VTIMEZONE
TZID:Australia/Sydney
X-LIC-LOCATION:Australia/Sydney
BEGIN:DAYLIGHT
DTSTART:20231001T030000
TZOFFSETFROM:+1000
TZOFFSETTO:+1100
TZNAME:AEDT
END:DAYLIGHT
END:VTIMEZONE
END:VCALENDAR