BEGIN:VCALENDAR
VERSION:2.0
PRODID:-//wp-events-plugin.com//7.2.3.1//EN
TZID:Australia/Sydney
X-WR-TIMEZONE:Australia/Sydney
BEGIN:VEVENT
UID:3331@unswoc.org
DTSTART;TZID=Australia/Sydney;VALUE=DATE:20231015
DTEND;TZID=Australia/Sydney;VALUE=DATE:20231016
DTSTAMP:20231008T045600Z
URL:https://unswoc.org/wordpress/events/sunday-bl-beginner-canyoning-lower
 -macquarie-pass/
SUMMARY:SUNDAY BL - Beginner - Canyoning Lower Macquarie Pass
DESCRIPTION:Brendan and I are running a canyon at Lower Macquarie Pass this
  Boree Log (Canyon description here). Macquarie Pass is a very exciting da
 y full of abseils\, slides and a few jumps!\n\n\n\n(image taken from Ozult
 imate)\n\nWHAT TO BRING:\n\n 	Dry bag*\n 	Helmet*\n 	Harness*\n 	Descender
  (figure 8)*\n 	Safety Sling*\n 	2 x locking carabiners*\n 	Enclosed shoes
  that you can walk in while wet\n 	Warm socks (not cotton!!)\n 	Wetsuit*\n
  	Shorts to go over and protect your wetsuit\n 	Water (at least 2L)\n 	Hea
 dtorch\n 	Emergency blanket (can be purchased from the club for $5)\n 	War
 m clothes (bring a dry set of thermals)\n 	Backpack to carry stuff in and 
 you're happy to get wet\n 	Food to last the whole day (including some snac
 ks to share)\n\n*Can borrow from the club for FREE. Gear will be organised
  at Boree Log.\n\n&nbsp\;\n\nIn the comments please include:\n\n\n 	Your c
 anyoning/ abseiling experience (it's ok to have none 🤠)\n 	What gear yo
 u have/need\n 	If you have a car\, the number of spots and roughly where y
 ou are going to\n 	If you've done an early vote for the Referendum (only a
 pplicable to Australian Citizens)\n\n&nbsp\;\n\nYou will need to be signed
  up the main boree log event to come on this trip!\n\n&nbsp\;\n\nCheers\,\
 n\nDaniel\n\n&nbsp\;
CATEGORIES:Boree Log,Canyoning
LOCATION:https://www.google.com/maps/place/34%C2%B033'56.5%22S+150%C2%B039'
 44.3%22E/@-34.5656792,150.6597431,17z/data=!4m4!3m3!8m2!3d-34.5656792!4d15
 0.662318?hl=en-AU&entry=ttu
END:VEVENT
BEGIN:VTIMEZONE
TZID:Australia/Sydney
X-LIC-LOCATION:Australia/Sydney
BEGIN:DAYLIGHT
DTSTART:20231001T030000
TZOFFSETFROM:+1000
TZOFFSETTO:+1100
TZNAME:AEDT
END:DAYLIGHT
END:VTIMEZONE
END:VCALENDAR