BEGIN:VCALENDAR
VERSION:2.0
PRODID:-//wp-events-plugin.com//7.2.3.1//EN
TZID:Australia/Sydney
X-WR-TIMEZONE:Australia/Sydney
BEGIN:VEVENT
UID:3345@unswoc.org
DTSTART;TZID=Australia/Sydney;VALUE=DATE:20231015
DTEND;TZID=Australia/Sydney;VALUE=DATE:20231016
DTSTAMP:20231007T000615Z
URL:https://unswoc.org/wordpress/events/sunday-bl-beginner-canyoning-lower
 -macquarie-pass-group-2/
SUMMARY:SUNDAY BL - Beginner - Canyoning Lower Macquarie Pass (Group 2)
DESCRIPTION:NOTE: Registration for all Boree Log day trips (like this one) 
 will open on Tuesday at 6 pm. You MUST already be accepted onto the main B
 oree Log event in order to attend.\n\n\n\nCome join Gabe and I (Oliver) on
  an awesome\, wet and not quite as long a day canyoning down Macquarie Pa
 ss..\n\n**Requirements**: be a competent swimmer + know how to abseil. We 
 can briefly refresh on abseiling skills if needed.\n\nGEAR (Items with (*)
  can be borrowed from the club on Sunday morning but bring your own if you
  have it\, there may not be enough):\n\n 	Harness *\n 	Helmet *\n 	Figure 
 8 Device or ATC *\n 	Prussik and biner *\n 	Safety sling and biner *\n 	We
 tsuit *\n\nWHAT TO WEAR:\n\n 	Enclosed shoes for canyoning (will get wet)\
 n 	Swimmers / thermals\n\nWHAT TO CARRY:\n\n 	Emergency blanket (can be pu
 rchased for $5 from the gear cupboard)\n 	Sunscreen\n 	Lunch (in a dry bag
 ) and 2L of water\n 	Dry layer(s) (thermals or woollen jumper - must be wo
 ol to keep you warm when wet)\n 	Drybag\n 	Backpack (25-40L\, will get wet
 )\n 	Headtorch + spare batteries\n 	Medications/epipens/first aid kit if y
 ou need them!\n\nLEAVE IN THE CAR:\n\n 	Dry change of clothes\n 	Dry shoes
 \n 	Dry towel\n\nCOMMENTS:\n\nPlease let us know in the comments whether y
 ou have a car\, your previous canyoning experience.\n\nMeeting point early
  Sunday morning at the campground\, look for Oliver and Gabe. Any question
 s\, message us on facebook. Get excited!\n\nPlease let me know if you have
  a car and your dream car =) - Drivers and cool dream cars will be given p
 reference.\n\nIf you are mega keen and want to read more about the canyon 
 just click here
CATEGORIES:Boree Log,Canyoning
LOCATION:https://maps.app.goo.gl/NrQdLvZMB5zgDVim8
END:VEVENT
BEGIN:VTIMEZONE
TZID:Australia/Sydney
X-LIC-LOCATION:Australia/Sydney
BEGIN:DAYLIGHT
DTSTART:20231001T030000
TZOFFSETFROM:+1000
TZOFFSETTO:+1100
TZNAME:AEDT
END:DAYLIGHT
END:VTIMEZONE
END:VCALENDAR