BEGIN:VCALENDAR
VERSION:2.0
PRODID:-//wp-events-plugin.com//7.2.3.1//EN
TZID:Australia/Sydney
X-WR-TIMEZONE:Australia/Sydney
BEGIN:VEVENT
UID:2565@unswoc.org
DTSTART;TZID=Australia/Sydney;VALUE=DATE:20191027
DTEND;TZID=Australia/Sydney;VALUE=DATE:20191028
DTSTAMP:20191024T223216Z
URL:https://unswoc.org/wordpress/events/sunday-bl-beginner-canyoning-dalpu
 ra-canyon/
SUMMARY:*TRIP FULL* Sunday BL - Beginner Canyoning – Dalpura Canyon
DESCRIPTION:\n\n&nbsp\;\n\nYou must be attending and approved for the Boree
  Log main event to sign up for this trip.\n\nNote: Thanks to Stephen for t
 he template\n\nWanna come see one of the Blue Mountains’ very best canyo
 ns? This will be a chill day with minimal swimming and on the way back to 
 Sydney.\n\nNic and I (Matt) will be running this awesome canyon on Boree L
 og – Sunday 27th. It is suited for beginners and should only take us hal
 f a day (so we get back to Sydney a bit earlier). If you want to sign up\,
  do it here\, and tell us in the comments (or send me a message on Faceboo
 k - Matthew Notarangelo) with your current outdoors experience\, car situa
 tion\, what gear you already have\, and your favourite piece of outdoors g
 ear (so we know you’ve read this far!)\, and we will let you know who go
 t a spot and add you to the trip ASAP.\n\nWhat to bring:\n\n 	Wetsuit (opt
 ional)*\n 	Headtorch\n 	Emergency blanket (You must carry one on every clu
 b canyoning trip. You can grab one from the gear cupboard or at Boree Log 
 for $5 cash)\n 	Harness*\n 	Descender (ATC or other - no munter/biner brak
 e/etc) and biner*\n 	Safety sling and biner*\n 	Prusik and biner*\n 	Helme
 t*\n 	Proper damn shoes. Volleys are ideal\, but runners with good grip (t
 hat aren’t slippery when wet) also work. No sandals or crocs. Sandals as
  they are unsafe and crocs being visually horrific.\n 	Wool socks (to keep
  your wet feet warm)\n 	Clothing that you can hike &amp\; scramble in &amp
 \; that is not too cold / heavy when wet (there will be deep wades). Pleas
 e do not wear jeans! Also no cotton! You will get wet!\n 	Spare jacket / j
 umper\n 	Sun protection! (sunscreen\, hat)\n 	2 litres of water\n 	Lunch &
 amp\; snacks (for 6hrs)\n 	Drybag to keep stuff dry\n 	Thermals + beanie f
 or if we're out late\n\n—&gt\; items with a * can be borrowed from club 
 – let us know what you need\n\n&nbsp\;\n\nSee you down there!
CATEGORIES:Boree Log,Canyoning
END:VEVENT
BEGIN:VTIMEZONE
TZID:Australia/Sydney
X-LIC-LOCATION:Australia/Sydney
BEGIN:DAYLIGHT
DTSTART:20191006T030000
TZOFFSETFROM:+1000
TZOFFSETTO:+1100
TZNAME:AEDT
END:DAYLIGHT
END:VTIMEZONE
END:VCALENDAR