BEGIN:VCALENDAR
VERSION:2.0
PRODID:-//wp-events-plugin.com//7.2.3.1//EN
TZID:Australia/Sydney
X-WR-TIMEZONE:Australia/Sydney
BEGIN:VEVENT
UID:3011@unswoc.org
DTSTART;TZID=Australia/Sydney:20220515T090000
DTEND;TZID=Australia/Sydney:20220515T163000
DTSTAMP:20220505T023006Z
URL:https://unswoc.org/wordpress/events/sunday-bl-a-loop-with-mt-banks-hik
 ing/
SUMMARY:SUNDAY BL - A loop with mt banks HIKING
DESCRIPTION:Heyo!\n\nMargot and I are leading a trip to mount banks and sur
 rounds. We'll be hiking to the edge of the valley for the pretty views and
  waltz up mt banks on the way back. It's 12km and the hilly parts seem to 
 be localised around mt banks and are smaller peak. Should be a nice chill 
 sunday\, if we have time we could see if we wanna go for an icy swim befor
 e or after. Some more details on the hike here: https://www.alltrails.com/
 trail/australia/new-south-wales/mount-banks-one-trail-loop?u=m\n\n\n\nGear
  list:\n\n 	Sturdy\, comfortable shoes or hiking boots\n 	Backpack to hold
  your stuff\n 	Appropriate hiking clothes\n 	Hat\n 	Rain jacket\n 	Warm cl
 othes\n 	Lunch and snacks\n 	2 L of water – need to have this ready to g
 o at the campground for when we leave Saturday morning (remember there is 
 no drinking water at the campground)\n 	Headtorch\n 	Any personal medicati
 on you might normally carry with you\n\nPlease leave a comment in the sign
  ups if you have a car or need a lift\, and your general level of fitness.
  Also write what your go to dinner after a big day is.\n\nFeel free to con
 tact me (Glenn Southern – https://www.facebook.com/glenn.southern/) or M
 argot Mason (https://www.facebook.com/margot.mason.58) if you have any que
 stions. (Cheers to matt Notarangelo for the event format btw)\n\nNote: You
  need to be approved for the main Boree Log event to attend these trips. P
 lease sign up for only ONE trip per day. If you get rejected you can then 
 sign up for another trip\, this just makes it easier for volunteer trip le
 aders. Please be aware that as the weather is unpredictable\, trip leaders
  may need to alter trips accordingly
END:VEVENT
BEGIN:VTIMEZONE
TZID:Australia/Sydney
X-LIC-LOCATION:Australia/Sydney
BEGIN:STANDARD
DTSTART:20220403T020000
TZOFFSETFROM:+1100
TZOFFSETTO:+1000
TZNAME:AEST
END:STANDARD
END:VTIMEZONE
END:VCALENDAR