BEGIN:VCALENDAR
VERSION:2.0
PRODID:-//wp-events-plugin.com//7.2.3.1//EN
TZID:Australia/Sydney
X-WR-TIMEZONE:Australia/Sydney
BEGIN:VEVENT
UID:2882@unswoc.org
DTSTART;TZID=Australia/Sydney;VALUE=DATE:20210314
DTEND;TZID=Australia/Sydney;VALUE=DATE:20210315
DTSTAMP:20210309T021921Z
URL:https://unswoc.org/wordpress/events/sunday-beginner-intermediate-canyo
 ning-lower-bowens-creek-north/
SUMMARY:**TRIP FULL** Sunday Beginner / Intermediate Canyoning - Lower Bowe
 ns Creek North
DESCRIPTION:\n\nThis trip is now full. We had huge interest in this trip so
  unfortunately are not able to take everyone. Keep an eye out (and turn th
 ose email notifications on) as we should be running a few more canyoning t
 rips this season!\n\nNote: You must be able to swim to come on this trip.\
 n\nCome join Elliott and myself this Sunday for a trip down Lower Bowens C
 reek North! A bit of a mouth-full\, this canyon offers plenty of bang for 
 your buck\, and even the option to abseil through a hole!\n\nExperience ab
 seiling and confidence scrambling is preferred\, but we will have a few sp
 ots open to beginners and we can teach you to abseil / make sure you're sa
 fe on the day.\n\nYou will need:\n\n 	Harness*\n 	Descender* (figure 8\, o
 r ATC) and a carabiner\n 	Safety sling and carabiner*\n 	Prusik and carabi
 ner*\n 	At least 1.5L water\n 	Food: lunch\, snacks.\n 	Emergency blanket 
 (compulsory for all club canyons\, can be bought from the gear cupboard fo
 r $5)\n 	Helmet*\n 	Wetsuit*\n 	Board shorts (to wear over wetsuit\, comp
 ulsory if wearing a club wetsuit)\n 	Backpack  (big enough to hold everyth
 ing)\n 	Dry bag*\n 	Enclosed Shoes (Volleys or old sneakers are good opti
 ons)\n 	Woollen socks\n 	Headtorch\n 	Thermals to wear under wetsuit\, or 
 old rain jacket to wear over wetsuit if you get cold\n 	Dry thermals/jumpe
 r (not cotton!) for emergency\n 	Dry clothes to leave in car\n 	Sunscreen\
 n 	No cotton (it gets very cold when wet)\n\nItems with an asterisk (*) ca
 n be borrowed from the gear cupboard.\n\nIn the comments please include yo
 ur abseiling and canyoning experience\, whether you've got a car with spot
 s\, and what your favourite outdoor snack is (so I know you've read this f
 ar).\n\nFeel free to message myself or Elliott on facebook if you have any
  questions\, and get keen!
ATTACH;FMTTYPE=image/jpeg:https://unswoc.org/wordpress/wp-content/uploads/
 2021/03/1611-bowens-ck-canyon-17.jpg
CATEGORIES:Canyoning
END:VEVENT
BEGIN:VTIMEZONE
TZID:Australia/Sydney
X-LIC-LOCATION:Australia/Sydney
BEGIN:DAYLIGHT
DTSTART:20201004T030000
TZOFFSETFROM:+1000
TZOFFSETTO:+1100
TZNAME:AEDT
END:DAYLIGHT
END:VTIMEZONE
END:VCALENDAR