BEGIN:VCALENDAR
VERSION:2.0
PRODID:-//wp-events-plugin.com//7.2.3.1//EN
TZID:Australia/Sydney
X-WR-TIMEZONE:Australia/Sydney
BEGIN:VEVENT
UID:2339@unswoc.org
DTSTART:20181124T220000Z
DTEND:20181125T020000Z
DTSTAMP:20181119T111801Z
URL:https://unswoc.org/wordpress/events/sunday-beginner-canyon/
SUMMARY:Sunday Beginner Canyon
DESCRIPTION:Wake up to Sunday with a refreshing morning canyon. We'll eithe
 r be doing Grand Canyon or Empress. Both are on the shorter side and featu
 re one main abseil. We plan to be done by lunch.\n\nGrand: http://ozultim
 ate.com/canyoning/track_notes/grand.htm\n\nEmpress: http://ozultimate.com/
 canyoning/track_notes/empress.htm\n\nPacking list:\n\n 	Wetsuit*\n 	Harnes
 s*\n 	Belay device and locking carabiner*\n 	Safety sling and locking cara
 biner*\n 	Thermal top and bottom to wear under wetsuit\n 	Backpack (this w
 ill get wet)\n 	Dry bag if you have one\n 	Woollen socks (no cotton socks!
 )\n 	Old shorts to wear over wetsuit (protects club gear)\n 	Walking shoes
  (volleys are great if you have them)\n 	Head torch\n 	Snacks\n 	1L water 
 minimum\n 	Jumper\n 	Sunscreen and hat\n 	Any personal medical supplies (e
 .g. asthma puffer\, epipen)\n\n*The club has limited supplies so bring you
 r own if you can.
CATEGORIES:Canyoning
END:VEVENT
END:VCALENDAR