BEGIN:VCALENDAR
VERSION:2.0
PRODID:-//wp-events-plugin.com//7.2.3.1//EN
TZID:Australia/Sydney
X-WR-TIMEZONE:Australia/Sydney
BEGIN:VEVENT
UID:1515@unswoc.org
DTSTART;VALUE=DATE:20160124
DTEND;VALUE=DATE:20160125
DTSTAMP:20160119T033558Z
URL:https://unswoc.org/wordpress/events/strawpoll-beginners-trip/
SUMMARY:Strawpoll Beginners Trip (Trip Full)
DESCRIPTION:Hey guys.\n\nI am going to run a beginners trip this Sunday\, b
 ut I don't real preference over what we do\, so I am leaving it up to you 
 to choose! The trip will be open to 8 people. By Wednesday we should have 
 a decisions\, and you can go and collect gear from the cupboard. Once we k
 now what we are doing\, we will make firm plans later in the week.\n\nGo t
 o the straw poll here: http://strawpoll.me/6568706\n\n&nbsp\;\n\n&nbsp\;
ATTACH;FMTTYPE=image/jpeg:https://unswoc.org/wordpress/wp-content/uploads/
 2015/12/grandcanyon.jpg
CATEGORIES:Bushwalking,Canyoning,Outdoor Climbing
END:VEVENT
END:VCALENDAR