BEGIN:VCALENDAR
VERSION:2.0
PRODID:-//wp-events-plugin.com//7.2.3.1//EN
TZID:Australia/Sydney
X-WR-TIMEZONE:Australia/Sydney
BEGIN:VEVENT
UID:2926@unswoc.org
DTSTART;TZID=Australia/Sydney;VALUE=DATE:20210905
DTEND;TZID=Australia/Sydney;VALUE=DATE:20210920
DTSTAMP:20210905T094809Z
URL:https://unswoc.org/wordpress/events/strava-art/
SUMMARY:Strava Art!
DESCRIPTION:TLDR: Strava art comp! https://www.strava.com/clubs/UNSWOC\nTry
 ing to create fun in lockdown and advertise some of the less known aspects
  of the club\, I came up with a Strava art comp!\n\nWe have a Strava club 
 which is now inclusive of all Strava sports in the one club! Head to the l
 ink up the top and join in the fun\, instructions and entries are in posts
  on the Strava page. There will be prizes 😁 (exactly what TBD)\, the co
 mpetition will run till 2359h on the 19th of September. Please also post y
 our entries on Facebook* to keep up the stoke! If your sport is not really
  compatible with strava\, you are still welcome to submit on Facebook*\, b
 e creative 😊 I am excited to see what you all come up with!!\n\n* or em
 ail me and I will post on your behalf (olivern1705@gmail.com)\n\n
END:VEVENT
BEGIN:VTIMEZONE
TZID:Australia/Sydney
X-LIC-LOCATION:Australia/Sydney
BEGIN:STANDARD
DTSTART:20210404T020000
TZOFFSETFROM:+1100
TZOFFSETTO:+1000
TZNAME:AEST
END:STANDARD
END:VTIMEZONE
END:VCALENDAR