BEGIN:VCALENDAR
VERSION:2.0
PRODID:-//wp-events-plugin.com//7.2.3.1//EN
TZID:Australia/Sydney
X-WR-TIMEZONE:Australia/Sydney
BEGIN:VEVENT
UID:3583@unswoc.org
DTSTART;TZID=Australia/Sydney:20250529T183000
DTEND;TZID=Australia/Sydney:20250529T220000
DTSTAMP:20250527T104417Z
URL:https://unswoc.org/wordpress/events/story-night/
SUMMARY:Story Night
DESCRIPTION:Looking to get inspired? Or perhaps just looking to get updated
  on the shenanigans of your fellow club members?\n\nThe UNSWOC tradition o
 f story night has come around again this year\, so come along on the 29th 
 of May to the old faithful stomping ground (Forest Lodge Hotel) at 6:30pm 
 to gain a nugget of insight into the latest and greatest epics of your fel
 low club members.\n\nThis is also a great opportunity to share should you 
 have any story-worthy outdoor adventures or expeditions - so please feel f
 ree to check out the link below to a google form and give us an idea of wh
 at you plan to present.\n\nhttps://forms.gle/VD71RqPxGvvSkaoz6\n\nJointly 
 commiserating our woes and celebrating our wins is a rite of passage in th
 e UNSWOC community\, so please come along on the night to learn a thing or
  two and show some support for your mates.\n\n&nbsp\;\nThe details:\n-Fore
 st Lodge Hotel\n\n-6:30pm for a 7pm start\n\n-Thursday the 29th of May\n\n
 -light snackable food provided including pizza\, chips and wings *feel fre
 e to order something more substantial on the night*\n\n&nbsp\;\n\nIn the s
 ignups below\, please let us know of any dietary requirements.\n\n&nbsp\;\
 n\nKeen to see you all there!\n\n&nbsp\;
CATEGORIES:Social Event
LOCATION:https://maps.app.goo.gl/WStTugotjpVdvMxT8
END:VEVENT
BEGIN:VTIMEZONE
TZID:Australia/Sydney
X-LIC-LOCATION:Australia/Sydney
BEGIN:STANDARD
DTSTART:20250406T020000
TZOFFSETFROM:+1100
TZOFFSETTO:+1000
TZNAME:AEST
END:STANDARD
END:VTIMEZONE
END:VCALENDAR