BEGIN:VCALENDAR
VERSION:2.0
PRODID:-//wp-events-plugin.com//7.2.3.1//EN
TZID:Australia/Sydney
X-WR-TIMEZONE:Australia/Sydney
BEGIN:VEVENT
UID:3109@unswoc.org
DTSTART;TZID=Australia/Sydney:20221104T183000
DTEND;TZID=Australia/Sydney:20221104T220000
DTSTAMP:20221023T014143Z
URL:https://unswoc.org/wordpress/events/story-night-beanie-grant-applicati
 ons/
SUMMARY:Story Night/ Beanie Grant Applications!
DESCRIPTION:This night will be one of the most interesting and inspiring of
  your club life.\n\nStories abound from past trips and a chance to hear th
 e first moments of future story creations.\n\n&nbsp\;\n\nIf you're interes
 ted in hearing from club legends about their adventures\; both past and fu
 ture\; then come along to UNSW Law building room 162 on Friday night on t
 he 4th of November to get some ideas for what your future can look like or
  just to be entertained by other sick events.\n\nThere will be food and (a
 dmittedly only semi-comfortable) chairs\, along with a great group of peop
 le to murmur and mingle with.\n\n&nbsp\;\n\nWe're excited to see you all!
END:VEVENT
BEGIN:VTIMEZONE
TZID:Australia/Sydney
X-LIC-LOCATION:Australia/Sydney
BEGIN:DAYLIGHT
DTSTART:20221002T030000
TZOFFSETFROM:+1000
TZOFFSETTO:+1100
TZNAME:AEDT
END:DAYLIGHT
END:VTIMEZONE
END:VCALENDAR