BEGIN:VCALENDAR
VERSION:2.0
PRODID:-//wp-events-plugin.com//7.2.3.1//EN
TZID:Australia/Sydney
X-WR-TIMEZONE:Australia/Sydney
BEGIN:VEVENT
UID:331@unswoc.org
DTSTART:20140304T060000Z
DTEND:20140304T110000Z
DTSTAMP:20140204T172552Z
URL:https://unswoc.org/wordpress/events/start-session-bbq/
SUMMARY:Start of Session BBQ
DESCRIPTION:Why not come join us for dinner and a drink?\n\nSee some slides
  from far flung adventures and ask some question of our beautiful members?
 \n\nDinner as always is on us. There will be beverages available for a sma
 ll contribution.\n\nIf you have been thinking about joining the club\, thi
 s is a great time to come down and say Hi!\n\n
ATTACH;FMTTYPE=image/jpeg:https://unswoc.org/wordpress/wp-content/uploads/
 2013/07/member-banner.jpg
CATEGORIES:Social Event
LOCATION:\, \, 
X-APPLE-STRUCTURED-LOCATION;VALUE=URI;X-ADDRESS=\, ;X-APPLE-RADIUS=100;X-TI
 TLE=:geo:0,0
END:VEVENT
END:VCALENDAR