BEGIN:VCALENDAR
VERSION:2.0
PRODID:-//wp-events-plugin.com//7.2.3.1//EN
TZID:Australia/Sydney
X-WR-TIMEZONE:Australia/Sydney
BEGIN:VEVENT
UID:828@unswoc.org
DTSTART;VALUE=DATE:20150605
DTEND;VALUE=DATE:20150609
DTSTAMP:20150531T121754Z
URL:https://unswoc.org/wordpress/events/start-season-winter-camping-trip/
SUMMARY:Start Of Season Winter Camping Trip
DESCRIPTION:On the June long weekend we will kick off the winter season sno
 w camping at Seaman's Hut near Mt Kosciuszko.\n\nCheck out the UNSWOC Snow
  Enthusiasts group where we are organising this.\n\nLet it snoooow\, let i
 t snoooooow....
CATEGORIES:Backcountry
LOCATION:\, \, 
X-APPLE-STRUCTURED-LOCATION;VALUE=URI;X-ADDRESS=\, ;X-APPLE-RADIUS=100;X-TI
 TLE=:geo:0,0
END:VEVENT
END:VCALENDAR