BEGIN:VCALENDAR
VERSION:2.0
PRODID:-//wp-events-plugin.com//7.2.3.1//EN
TZID:Australia/Sydney
X-WR-TIMEZONE:Australia/Sydney
BEGIN:VEVENT
UID:2186@unswoc.org
DTSTART;VALUE=DATE:20171029
DTEND;VALUE=DATE:20171030
DTSTAMP:20171017T090155Z
URL:https://unswoc.org/wordpress/events/starlight-realm/
SUMMARY:StarLIGHT UP YOUR REALM
DESCRIPTION:Wanna come see one of the Blue Mountains' very best\, 10/10 can
 yons? Wanna see a spectacular glowworm tunnel\, beautiful canyon formation
 s\, experience three sweet abseils\, and enjoy a scenic hike? Then Starlig
 ht Canyon is for you!\n\nAlie and I will be running this awesome canyon o
 n Boree Log - Sunday 29th. It is suited for intermediate canyoners with se
 veral beginner spots available too. If you want to sign up\, do it here\, 
 and shoot me a message on Facebook with your current outdoors experience\,
  car situation\, and your favourite place in Australia (so we know you’v
 e read this far!)\, and we will let you know who got a spot and add you to
  the trip ASAP.\n\n(**Side note: you must be approved for Boree Log to sig
 n up**)\n\nMy fb for messaging --&gt\; Isabella Lowe https://www.facebook
 .com/Pandas.and.starfish.and.turtles\n\n&nbsp\;\n\nGear list:\n\n	Harness*
 \n	Descender and biner*\n	Safety sling and biner*\n	Clothes to wear in the
  canyon\n	Wool socks\n	Sneakers\n	Day pack\n	Head torch\n	Helmet*\n\n\n	Ar
 ound 2L of water bottle capacity\n	Packed lunch\n\n—&gt\; items with a *
  can be borrowed from club - let us know what you need\n\n&nbsp\;\n\nSee y
 ou down there!
ATTACH;FMTTYPE=image/jpeg:https://unswoc.org/wordpress/wp-content/uploads/
 2017/10/25164.jpg
CATEGORIES:Boree Log,Canyoning
END:VEVENT
END:VCALENDAR