BEGIN:VCALENDAR
VERSION:2.0
PRODID:-//wp-events-plugin.com//7.2.3.1//EN
TZID:Australia/Sydney
X-WR-TIMEZONE:Australia/Sydney
BEGIN:VEVENT
UID:1479@unswoc.org
DTSTART:20151030T203000Z
DTEND:20151031T070000Z
DTSTAMP:20151027T040016Z
URL:https://unswoc.org/wordpress/events/starlight-canyon/
SUMMARY:Starlight Canyon - Intermediate Trip
DESCRIPTION:Hey Team!\n\nFor the best dam Canyon of the weekend\, come alon
 g to Starlight canyon on Boree Log Saturday\n\nStarlight is a full day can
 yon that has some excellent abseiling\, boulder scrambling and a bat cave 
 to boot.\n\nFitness is a big one as the day starts with a big hike up hill
 . Other than that the abseils are fairly strait forward. No swimming requi
 red.\n\nWhat to bring:\n\n	Head torch (with full batteries)\n	Harness\n	Ca
 rabiners\n	Descender\n	Helmet\n	Proper dam shoes. Volleys are ideal\, but 
 runners with good grip (that aren't slippery when wet) also work. No sanda
 ls or crocs. Sandals as they are unsafe and crocs being visually horrific.
 \n	Clothing that you can hike &amp\; scramble in &amp\; that is not too co
 ld / heavy when wet (there may be deep wades). Please do not wear jeans!\n
 	Spare jacket / jumper in a plastic bag\n	Sun protection! (sunscreen\, ha
 t)\n	2 litres of water\n	Lunch &amp\; snacks (for 10hrs)\n	Drinks for the 
 trip leaders. Luke prefers a lager from the south east of Tasmania whilst 
 Katie is more of a Merlot from Tuscany lass. I assume. Dark Spirits also a
 ccepted.Any dire\, desperate and/or life or death questions\, my number is
  0449876605.-Luke.\n
CATEGORIES:Boree Log,Canyoning
END:VEVENT
END:VCALENDAR