BEGIN:VCALENDAR
VERSION:2.0
PRODID:-//wp-events-plugin.com//7.2.3.1//EN
TZID:Australia/Sydney
X-WR-TIMEZONE:Australia/Sydney
BEGIN:VEVENT
UID:2192@unswoc.org
DTSTART:20171027T203000Z
DTEND:20171028T070000Z
DTSTAMP:20190225T211219Z
URL:https://unswoc.org/wordpress/events/starlight-canyon-saturday/
SUMMARY:Starlight canyon - Saturday
DESCRIPTION:Hey everyone\, Felix and I will be running starlight canyon Sat
 urday of Boree log. You'll have to be up and ready by 7:30 at camp or risk
  us leaving without you :p\n\nI hear it's a beautiful canyon with a few ab
 seils and probably no swims\, though you still must be able to swim in cas
 e.\n\nIt is suited for intermediate canyoners with several beginner spots 
 available too. If you want to sign up\, do it here\, and shoot me a messag
 e on Facebook with your current canyoning experience. Please do msg since 
 I won't approve you if I have no idea if you know what an ATC is! We will 
 let you know who got a spot and add you to the trip ASAP.\n\n(**Side note:
  you must be approved for Boree Log to sign up**)\n\nGear list:\n\nHarness
 *\nDescender and biner*\nHelmet*\n(Wetsuit not required)\nBackup dry therm
 als or jumper\nWool socks\nSneakers\nDay pack and dry bag\nHead torch\nAt 
 least 2L of water\nPacked lunch\nLots of snacks and yummies to share \;D\n
 Emergency blanket (like 10 bucks and could save your life on this or any f
 uture outdoor adventure you have)\n\nOptional:\nFirst aid kit\nPLB\nSafety
  sling and biner\n\n\n—&gt\; items with a * can be borrowed from club 
 – let us know what you need\n\nCheers\, \nBrendan
CATEGORIES:Boree Log,Canyoning
END:VEVENT
END:VCALENDAR