BEGIN:VCALENDAR
VERSION:2.0
PRODID:-//wp-events-plugin.com//7.2.3.1//EN
TZID:Australia/Sydney
X-WR-TIMEZONE:Australia/Sydney
BEGIN:VEVENT
UID:2400@unswoc.org
DTSTART:20190413T090000Z
DTEND:20190414T100000Z
DTSTAMP:20190401T043032Z
URL:https://unswoc.org/wordpress/events/starlight-canyon-intermediate-trip
 /
SUMMARY:STARLIGHT CANYON (Intermediate trip)
DESCRIPTION:\nWanna come on one of the one of the five 10/10 rated™ Canyo
 ns in the Blueys? Come on down through the beautiful Starlight Canyon - s
 o named for its cave lit by star-like glowworms. It’s got rocks\, sick f
 erns\, ankle-deep water\, two abseils\, a tunnel\, and a big walk in (but 
 chill walk out).\nWe’re planning on driving up to Newnes Campground Satu
 rday night (13th) and camping with a bonfire etc. then starting the canyon
  early the next morning (Sunday 14th) then driving back to Sydney Sunday n
 ight.\nThis is a pretty long day\, so we gotta be moving efficiently which
  means that having previous canyon/rock scrambling/rope skills/general fit
 ness is advised. So if you’re keen\, please MESSAGE ME (Facebook preferr
 ed) with your relevant outdoors experience and potential car details!\n&nb
 sp\;\nPacking list:\nHarness**\nHelmet**\nHead torch (must have)\nDescende
 r (ATC\, figure 8\, etc.) + biner**\nSafety sling + biner**\nShoes to get 
 wet (I’d advise volleys\, old runners\, or like $10 sneakers from Kmart)
 \nA warm sweater or something to wear in case you get cold\nWool socks\nDa
 y pack\nLunch\nSnacks\nSunscreen\n2L Water bottle/s\n+ Camping gear for Sa
 turday night (tent/sleeping bag/sleeping mat/dinner/warm clothing etc.)\n\
 n&nbsp\;\nYou can borrow items with a ** from the club\n&nbsp\;\nSee you t
 here!\nxx Izzy and Mira\n&nbsp\;\n\n&nbsp\;
ATTACH;FMTTYPE=image/jpeg:https://unswoc.org/wordpress/wp-content/uploads/
 2019/04/25159.jpg
CATEGORIES:Canyoning
END:VEVENT
END:VCALENDAR