BEGIN:VCALENDAR
VERSION:2.0
PRODID:-//wp-events-plugin.com//7.2.3.1//EN
TZID:Australia/Sydney
X-WR-TIMEZONE:Australia/Sydney
BEGIN:VEVENT
UID:539@unswoc.org
DTSTART;VALUE=DATE:20140913
DTEND;VALUE=DATE:20140915
DTSTAMP:20140822T011304Z
URL:https://unswoc.org/wordpress/events/spring-rogaine/
SUMMARY:Spring Rogaine!
DESCRIPTION:Sorry guys\, no pubs this time\, this is the real deal!\n\nIf y
 ou enjoyed the PUBGAINE!\, then this is the trip for you? There is a rogai
 ne on in the Newnes State Forrest\, up in the Blue Mountains on the 13th a
 nd 14th of September. There is an 8 hour and 24 hour category for this eve
 nt. Same rules as the PUBGAINE! apply\, teams are limited to between 3 and
  5\, so the best way to organise this is to sort ourselves into teams onc
 e everyone has registered here on the website.\n\nThe registration fee for
  this rogaine is $61\, however\, the club may be able to subsidise this. R
 egistration for the event closes on the 7th of September\, so you need to 
 be signed up to this by the 3rd of septmeber to allow us time to get organ
 ised. So\, if you are keen\, sign up here and we will organise registratio
 n. If you have questions\, call me on 0430731491\, or post on the facebook
  page.\n\n&nbsp\;\n\nhttp://nswrogaining.org/AboutEvents/Events/14NC/14NC.
 htm\n\n&nbsp\;\n\nWe can go to the pub afterwards \;).
ATTACH;FMTTYPE=image/jpeg:https://unswoc.org/wordpress/wp-content/uploads/
 2014/02/trail-running-dolomites-1024x6811.jpg
LOCATION:\, \, 
X-APPLE-STRUCTURED-LOCATION;VALUE=URI;X-ADDRESS=\, ;X-APPLE-RADIUS=100;X-TI
 TLE=:geo:0,0
END:VEVENT
END:VCALENDAR