BEGIN:VCALENDAR
VERSION:2.0
PRODID:-//wp-events-plugin.com//7.2.3.1//EN
TZID:Australia/Sydney
X-WR-TIMEZONE:Australia/Sydney
BEGIN:VEVENT
UID:2742@unswoc.org
DTSTART;TZID=Australia/Sydney:20200924T180000
DTEND;TZID=Australia/Sydney:20200924T193000
DTSTAMP:20200924T015910Z
URL:https://unswoc.org/wordpress/events/spring-cleaning-anchors/
SUMMARY:Spring Cleaning ... Anchors!!!
DESCRIPTION:NOTE: As the ledge night is full\, you can now only sign up to 
 this if you have already been approved for the ledge!!!\n\n&nbsp\;\n\nTime
  for a spring cleaning lesson!!!\n\nAre you learning to lead climb outside
 ? Ever wondered what your trip leaders are doing when they are faffing abo
 ut at the top of a route at the end of the day? Want to magically collect 
 gear and come down safely?\n\nThen come and learn how to clean outdoor anc
 hors on Thursday at the Ledge!\n\nThis is an essential skill for your safe
 ty and to ensure you aren't leaving your precious gear behind for others t
 o grab (i.e. crag swag)!\n\nYou need to be:\n\n 	Keen to develop your outd
 oor climbing skills\n 	Physically at the ledge at 6pm\n\nYou need to bring
 :\n\n 	Your harness\n 	One carabiner\n 	A self-anchor/safety sling/daisy c
 hain/belay sling (yes\, these are all different words for the same thing)\
 n\nIf you don't have a safety sling or carabiner\, do not fret! If you get
  onto the workshop just shoot me a message (Sammy Millard) and I can bring
  one for you (if you don't have facebook\, put your email in the comments)
 .\n\nWe will be cleaning from 6-7:30 but you can climb before and after at
  the ledge.\n\nLooking forward to the clean up!
CATEGORIES:Indoor Climbing,Outdoor Climbing
END:VEVENT
BEGIN:VTIMEZONE
TZID:Australia/Sydney
X-LIC-LOCATION:Australia/Sydney
BEGIN:STANDARD
DTSTART:20200405T020000
TZOFFSETFROM:+1100
TZOFFSETTO:+1000
TZNAME:AEST
END:STANDARD
END:VTIMEZONE
END:VCALENDAR