BEGIN:VCALENDAR
VERSION:2.0
PRODID:-//wp-events-plugin.com//7.2.3.1//EN
TZID:Australia/Sydney
X-WR-TIMEZONE:Australia/Sydney
BEGIN:VEVENT
UID:2272@unswoc.org
DTSTART:20180810T210000Z
DTEND:20180811T090000Z
DTSTAMP:20180810T004803Z
URL:https://unswoc.org/wordpress/events/sport-climbing-trip-to-the-blue-mo
 untains-saturday/
SUMMARY:Sport climbing trip to the Blue Mountains - SATURDAY -
DESCRIPTION:Hi everyone!\n\nSince many people were interested in this weeke
 nd's trips but they got full very quickly\, Tad and I will run an extra ro
 ck climbing trip to the Blue Mountains this Saturday 🙂 We are going to 
 Shipley Upper\, a nice slabby sunny crag with very good sport climbs: htt
 ps://www.thecrag.com/climbing/australia/blue-mountains/shipley-upper\n\nWe
  will leave UNSW early on SATURDAY morning (time TBA)\, spend the day clim
 bing\, and be back at night. Not outdoor climbing experience is required\,
  we will set up top ropes and teach how to tie Figure 8s and how to belay 
 if needed. However\, if you're an intermediate or advanced climber\, you'r
 e also welcomed to join. Preference will be given to people with cars.\n\n
 We will borrow all the necessary gear (harnesses\, ropes\, quickdraws\, sh
 oes\, helmets\, anchors\, etc) from the gear cupboard at UNSW on Saturday 
 morning before we leave. If you have your own gear\, bring it! Make sure y
 ou bring warm sporty clothes\, plenty of water\, comfortable shoes\, sunsc
 reen and food for the day.\n\nShoot me a message on facebook if you have a
 ny questions! 🙂 Best\, Maria\n\n\n\n&nbsp\;
CATEGORIES:Outdoor Climbing
END:VEVENT
END:VCALENDAR