BEGIN:VCALENDAR
VERSION:2.0
PRODID:-//wp-events-plugin.com//7.2.3.1//EN
TZID:Australia/Sydney
X-WR-TIMEZONE:Australia/Sydney
BEGIN:VEVENT
UID:3419@unswoc.org
DTSTART;TZID=Australia/Sydney:20240519T100000
DTEND;TZID=Australia/Sydney:20240519T160000
DTSTAMP:20240516T041734Z
URL:https://unswoc.org/wordpress/events/sport-climbing-trip-to-dural-sunda
 y-may-19/
SUMMARY:FULL - Sport Climbing Trip to Dural - Sunday May 19
DESCRIPTION:Hey Everyone!\n\nThis Sunday May 19th\, Gabriel and I (Amelia V
 ) will be leading a beginner friendly sport climbing trip to Dural (weathe
 r permitting!). It's a great place for all skill and experience levels as 
 there are a range of grades and styles. We will be setting up top ropes fo
 r most the climbs so no experience is required\, only a keen attitude!\n\n
 The trip leaders will review all trip sign ups and you'll receive an autom
 ated email if you get accepted or rejected for the trip. If you've been ac
 cepted\, check Messenger as the trip leaders will make a group chat with a
 ll the participants. If you're having issues signing up\, check that you'r
 e logged in and have a paid membership. In terms of transport\, we will or
 ganise carpooling in the group chat. This will be an all day adventure\, s
 o that means we will depart early in the morning\, and will finish up in t
 he afternoon before it gets too cold or dark.\n\nIf you'd like to check ou
 t some of the routes\, here is some more info on the crag: https://www.the
 crag.com/climbing/australia/north-west/area/663606603\n\n[caption id="atta
 chment_16613" align="alignright" width="314"] Might not be Dural but still
  some pretty climbs[/caption]\n\n&nbsp\;\n\nThings to bring:\n\n 	Harness*
 \n 	Helmet*\n 	ATC with a carabiner*\n 	Safety sling*\n 	Climbing shoes\n 
 	Lunch\, snacks\n 	At least 2L Water\n 	Hat\, sunscreen \n 	Warm clothes (
 it's chilly days!)\n 	Medications if you need them (asthma puffer etc.)\n 
 	Any sport climbing gear you may own\n 	Good vibes!\n\n* Gear can be borro
 wed from the gear cupboard\, usually on Thursday 5-6pm. Please check UNSWO
 C Facebook page for latest gear shed details\n\n\n\nIf you'd like to come 
 along\, in the comment box below\, please put your climbing experience\, y
 our messenger/facebook profile link (so we can get in contact with you if 
 you're approved)\, if you have a car\, how many car spots you have and whe
 re you'd be driving from. Lastly\, let us know something that you think wo
 uld be way cooler if it could fly (e.g. Flying motorcycles)\n\nIf you have
  any questions\, feel free to reach out to Gabriel or myself (https://www.
 facebook.com/amelia.vas.520/)\n\n&nbsp\;
CATEGORIES:Climbing,Outdoor Climbing
LOCATION:https://www.google.com/maps/dir/?api=1&destination=-33.681453,151.
 077684
END:VEVENT
BEGIN:VTIMEZONE
TZID:Australia/Sydney
X-LIC-LOCATION:Australia/Sydney
BEGIN:STANDARD
DTSTART:20240407T020000
TZOFFSETFROM:+1100
TZOFFSETTO:+1000
TZNAME:AEST
END:STANDARD
END:VTIMEZONE
END:VCALENDAR