BEGIN:VCALENDAR
VERSION:2.0
PRODID:-//wp-events-plugin.com//7.2.3.1//EN
TZID:Australia/Sydney
X-WR-TIMEZONE:Australia/Sydney
BEGIN:VEVENT
UID:2893@unswoc.org
DTSTART;TZID=Australia/Sydney;VALUE=DATE:20210418
DTEND;TZID=Australia/Sydney;VALUE=DATE:20210419
DTSTAMP:20210414T231511Z
URL:https://unswoc.org/wordpress/events/sport-climbing-trip-sunday/
SUMMARY:Sport climbing trip - SUNDAY
DESCRIPTION:Hey there! Sammy and I (Maria) will lead a beginner/intermediat
 e sport climbing trip this weekend.\n\nWe will choose the specific place d
 epending on climbing abilities and weather\, so let us know what grades ap
 prox. you'd like to climb! (if you don't know what grade\, that's okay! yo
 u can write in the comments how often you climb indoors).\n\nThe plan: lea
 ve Sydney (carpool\, do you have a car and can drive people? if so you'll 
 get preference :) ) early on Sunday morning\, spend an awesome day climbin
 g\, drive back to Sydney in the evening / night.\n\nYou will need to bring
 :\n\nClimbing gear:\n\n 	Harness*\n 	Climbing Shoes*\n 	Helmet*\n 	Belay d
 evice and locking carabiner*\n 	Chalk Bag (optional but recommended)\n\n(
 *) – Can be borrowed from the gear shed at UNSW 4-5pm Thursday\, hire is
  free for club trips but remember to bring cash for a deposit!\n\nOther:\n
 \n 	At least 2L of water\n 	Food and snacks for the day\n 	Sunscreen\n 	Pe
 rsonal medicines (epipen\, antihistamines\, etc.)\n 	Enclosed comfortable
  shoes for the approach + a very warm jacket (gets very chilly up there...
 )\n 	A head torch (just incase we are too psyched to leave before dark…
 )\n 	Some cash for petrol for your driver.\n\nAny questions let us know! S
 ee ya there!
ATTACH;FMTTYPE=image/jpeg:https://unswoc.org/wordpress/wp-content/uploads/
 2020/11/IMG_20201108_175739347_HDR_2-scaled.jpg
CATEGORIES:Outdoor Climbing
END:VEVENT
BEGIN:VTIMEZONE
TZID:Australia/Sydney
X-LIC-LOCATION:Australia/Sydney
BEGIN:STANDARD
DTSTART:20210404T020000
TZOFFSETFROM:+1100
TZOFFSETTO:+1000
TZNAME:AEST
END:STANDARD
END:VTIMEZONE
END:VCALENDAR