BEGIN:VCALENDAR
VERSION:2.0
PRODID:-//wp-events-plugin.com//7.2.3.1//EN
TZID:Australia/Sydney
X-WR-TIMEZONE:Australia/Sydney
BEGIN:VEVENT
UID:2900@unswoc.org
DTSTART;TZID=Australia/Sydney:20210424T093000
DTEND;TZID=Australia/Sydney:20210424T173000
DTSTAMP:20210420T113334Z
URL:https://unswoc.org/wordpress/events/sport-climbing-trip-saturday/
SUMMARY:Sport Climbing Trip – SATURDAY
DESCRIPTION:On Sunday Elliot and I(Cam) will be running a Sport climbing tr
 ip at Mount York. This is a great opportunity to get outdoors\, get some c
 limbing in\, and learn a bit about lead climbing. Include your experience 
 in the comments and we'll see which crag we end up at on the day.\n\nThe p
 lan: Early morning carpool from Sydney (those with a car will be given pr
 eference) \, spend an awesome day climbing\, drive back to Sydney in the e
 vening / night. We’ll aim to meet at the carpark by 9:30AM\n\nYou will n
 eed to bring:\n\nClimbing gear:\n\n 	Harness*\n 	Climbing Shoes*\n 	Helmet
 *\n 	Belay device and locking carabiner*\n 	Chalk Bag (optional but recom
 mended)\n\n(*) – Can be borrowed from the gear shed at UNSW 4-5pm Thursd
 ay\, hire is free for club trips but remember to bring cash for a deposit!
 \n\nOther:\n\n 	At least 2L of water\n 	Food and snacks for the day\n 	Sun
 screen\n 	Personal medicines (epipen\, antihistamines\, etc.)\n 	Enclosed
  comfortable shoes for the approach + a warm jacket (gets very chilly up t
 here…)\n 	A head torch (just incase we are too psyched to leave before 
 dark…)\n 	Some cash for petrol for your driver.\n\nGet keen!!!\n\n&nbsp\
 ;
CATEGORIES:Outdoor Climbing
END:VEVENT
BEGIN:VTIMEZONE
TZID:Australia/Sydney
X-LIC-LOCATION:Australia/Sydney
BEGIN:STANDARD
DTSTART:20210404T020000
TZOFFSETFROM:+1100
TZOFFSETTO:+1000
TZNAME:AEST
END:STANDARD
END:VTIMEZONE
END:VCALENDAR