BEGIN:VCALENDAR
VERSION:2.0
PRODID:-//wp-events-plugin.com//7.2.3.1//EN
TZID:Australia/Sydney
X-WR-TIMEZONE:Australia/Sydney
BEGIN:VEVENT
UID:3208@unswoc.org
DTSTART;TZID=Australia/Sydney;VALUE=DATE:20230225
DTEND;TZID=Australia/Sydney;VALUE=DATE:20230226
DTSTAMP:20230222T095228Z
URL:https://unswoc.org/wordpress/events/sport-climbing-trip-saturday-2/
SUMMARY:[Full] Sport Climbing Trip - SATURDAY
DESCRIPTION:Brendan and I (Cam) are running a beginner friendly trip to Med
 low Bath this Saturday (25th).\n\nThe Plan: Early morning carpool from Syd
 ney (those with a car will be given preference)\, spend an awesome day cli
 mbing\, drive back to Sydney in the evening.\n\nYou’ll need to bring/bor
 row this gear to come along:\n\nClimbing Gear\n\n 	Harness\n 	Helmet\n 	AT
 C + carabiner\n 	Climbing shoes\n\nIf you need to borrow any gear stop by 
 the gear cupboard (Friday) from 5:00pm.\n\nOther Gear:\n\n 	At least 2L of
  water\n 	Food for the day\n 	Sunscreen\n 	Personal medicines (epipen\, an
 tihistamines etc)\n 	Enclosed comfortable shoes for the approach\n\nIn the
  comments let us know about any climbing experience you have\, any gear yo
 u would need to borrow\, how many spare seats you have if you’ve got a c
 ar\n\nIf you’ve got any questions or concerns feel free to message Brend
 an Crisp or myself on Messenger!
END:VEVENT
BEGIN:VTIMEZONE
TZID:Australia/Sydney
X-LIC-LOCATION:Australia/Sydney
BEGIN:DAYLIGHT
DTSTART:20221002T030000
TZOFFSETFROM:+1000
TZOFFSETTO:+1100
TZNAME:AEDT
END:DAYLIGHT
END:VTIMEZONE
END:VCALENDAR