BEGIN:VCALENDAR
VERSION:2.0
PRODID:-//wp-events-plugin.com//7.2.3.1//EN
TZID:Australia/Sydney
X-WR-TIMEZONE:Australia/Sydney
BEGIN:VEVENT
UID:3624@unswoc.org
DTSTART;TZID=Australia/Sydney:20250830T090000
DTEND;TZID=Australia/Sydney:20250830T170000
DTSTAMP:20250816T125544Z
URL:https://unswoc.org/wordpress/events/sport-climbing-learn-to-lead-bell-
 sat3aug/
SUMMARY:Sport Climbing / Learn to Lead @ Bell 30AUG
DESCRIPTION:Hey Everyone!\nPeta Somerville and I (Nic Di Campli) will be le
 ading a sport climbing trip to a Blue Mountains crag (likely Bell Crag) th
 is Sunday the 30th of August!\n\nThe trip leaders will review all trip sig
 n ups and you’ll receive an automated email if you get accepted or rejec
 ted for the trip. If you’ve been accepted\, check Messenger as the trip
  leaders will make a group chat with all the participants. If you’re hav
 ing issues signing up\, check that you’re logged in and have a paid memb
 ership. For transport\, we will organise carpooling in the group chat. The
  trip will be all day\, starting in the morning and running into the eveni
 ng.\n\nIf you’d like to check out some of the routes on the crag\, click
  HERE\n\n\n\n&nbsp\;\nThis could be you!\n&nbsp\;\n\nThings to bring:\n\n
  	Harness*\n 	Helmet*\n 	ATC with a carabiner*\n 	Safety sling*\n 	Climbin
 g shoes\n 	Lunch\, snacks\n 	Include in comment the worst movie you've eve
 r seen\n 	At least 2L Water\n 	Hat\, sunscreen\n 	Jacket\, just in case\n 
 	Medications if you need them (asthma puffer etc.)\n 	Any sport climbing g
 ear you may own\n 	Good vibes!\n\n* Gear can be borrowed from the gear cup
 board. Please check UNSWOC Facebook page for latest gear shed details\n\n\
 n\nIf you’d like to come along\, in the comment box below\, please put \
 n\n 	Your climbing experience\n 	Confirmation that you have/will acquire a
 ll the gear listed above\n 	What you would like to learn on the day\n\n 	L
 ead climbing\n 	Lead belaying\n 	Cleaning anchors\n 	All of the above?\n\n
 \n 	What suburb you’re headed from if you’re driving\, and \n 	Your fa
 vourite crag snack\n\nPlease ensure your messenger/facebook profile link i
 s in your account profile\, otherwise also include it in your comment (so 
 we can get in contact with you if you’re approved).\n\n\n\nIf you have a
 ny questions\, feel free to reach out to Peta or myself on Messenger!
CATEGORIES:Climbing,Outdoor Climbing
LOCATION:https://maps.app.goo.gl/yJfMTb5HNRVe1yUu5
END:VEVENT
BEGIN:VTIMEZONE
TZID:Australia/Sydney
X-LIC-LOCATION:Australia/Sydney
BEGIN:STANDARD
DTSTART:20250406T020000
TZOFFSETFROM:+1100
TZOFFSETTO:+1000
TZNAME:AEST
END:STANDARD
END:VTIMEZONE
END:VCALENDAR