BEGIN:VCALENDAR
VERSION:2.0
PRODID:-//wp-events-plugin.com//7.2.3.1//EN
TZID:Australia/Sydney
X-WR-TIMEZONE:Australia/Sydney
BEGIN:VEVENT
UID:3578@unswoc.org
DTSTART;TZID=Australia/Sydney:20250416T090000
DTEND;TZID=Australia/Sydney:20250416T170000
DTSTAMP:20250415T062509Z
URL:https://unswoc.org/wordpress/events/sport-climbing-learn-to-lead-bell-
 crag-wednesday-16th-april/
SUMMARY:POSTPONED - Sport Climbing / Learn to Lead @ Bell Crag\, Wednesday 
 16th April
DESCRIPTION:This trip has been postponed until the start of May and will be
  reposted\, apologies all.\n\nHey Everyone!\n\nPeta Somerville and I (Nic 
 Di Campli) will be leading a sport climbing trip to a Blue Mountains crag 
 (likely Bell Crag) this Wednesday the 16th of April!\n\nThe trip leaders 
 will review all trip sign ups and you’ll receive an automated email if y
 ou get accepted or rejected for the trip. If you’ve been accepted\, chec
 k Messenger as the trip leaders will make a group chat with all the parti
 cipants. If you’re having issues signing up\, check that you’re logged
  in and have a paid membership. For transport\, we will organise carpoolin
 g in the group chat. The trip will be all day\, starting in the morning an
 d running into the evening.\n\nIf you’d like to check out some of the ro
 utes on the crag\, click HERE\n\n\n\n&nbsp\;\nThis could be you!\n&nbsp\;
 \n\nThings to bring:\n\n 	Harness*\n 	Helmet*\n 	ATC with a carabiner*\n 	
 Safety sling*\n 	Climbing shoes\n 	Lunch\, snacks\n 	Include in comment th
 e worst movie you've ever seen\n 	At least 2L Water\n 	Hat\, sunscreen\n 	
 Jacket\, just in case\n 	Medications if you need them (asthma puffer etc.)
 \n 	Any sport climbing gear you may own\n 	Good vibes!\n\n* Gear can be bo
 rrowed from the gear cupboard\, usually on Thursday 4-5pm. Please check UN
 SWOC Facebook page for latest gear shed details\n\n\n\nIf you’d like to 
 come along\, in the comment box below\, please put \n\n 	Your climbing exp
 erience\n 	Confirmation that you have/will acquire all the gear listed abo
 ve\n 	What you would like to learn on the day\n\n 	Lead climbing\n 	Lead b
 elaying\n 	Cleaning anchors\n 	All of the above?\n\n\n 	What suburb you’
 re headed from if you’re driving\, and \n 	Your favourite crag snack\n\n
 Please ensure your messenger/facebook profile link is in your account prof
 ile\, otherwise also include it in your comment (so we can get in contact 
 with you if you’re approved).\n\n\n\nIf you have any questions\, feel fr
 ee to reach out to Peta or myself on messenger!
CATEGORIES:Climbing,Outdoor Climbing
LOCATION:https://maps.app.goo.gl/Uvs6FAZ5tYHRayTU9
END:VEVENT
BEGIN:VTIMEZONE
TZID:Australia/Sydney
X-LIC-LOCATION:Australia/Sydney
BEGIN:STANDARD
DTSTART:20250406T020000
TZOFFSETFROM:+1100
TZOFFSETTO:+1000
TZNAME:AEST
END:STANDARD
END:VTIMEZONE
END:VCALENDAR