BEGIN:VCALENDAR
VERSION:2.0
PRODID:-//wp-events-plugin.com//7.2.3.1//EN
TZID:Australia/Sydney
X-WR-TIMEZONE:Australia/Sydney
BEGIN:VEVENT
UID:3293@unswoc.org
DTSTART;TZID=Australia/Sydney;VALUE=DATE:20230723
DTEND;TZID=Australia/Sydney;VALUE=DATE:20230724
DTSTAMP:20230717T094249Z
URL:https://unswoc.org/wordpress/events/sport-climbing-binary-cave/
SUMMARY:Sport climbing @ Binary Cave
DESCRIPTION:Hey everyone!\n\nMali and I will be heading to Binary Cave\, a 
 crag in the Blue Mountains this upcoming Sunday. This is a probably a litt
 le bit more of an intermediate crag\, with grades from 18 upwards so it wo
 uld be more enjoyable for you guys if you have climbed outdoors a few time
 s before\, either club trip or not. This being said\, of course everyone i
 s welcome\, no previous experience is required as we can teach you everyth
 ing you need to know on the day and set up top ropes for everyone!\n\nNote
 : The trip will go ahead depending on the weather\, we’ll make a call cl
 oser to the date.\n\n&nbsp\;\n\n[caption id="attachment_15309" align="alig
 nnone" width="281"] Beautiful Blue Mountains golden hours\, Abi at Zig Zag
 [/caption]\n\n&nbsp\;\n\nPlease bring the following:\n\n 	Harness*\n 	Helm
 et*\n 	Climbing shoes*\n 	Belay device + locking carabiner* (e.g. ATC\, Gr
 iGri)\n 	Safety sling + locking carabiner* (if you want to learn how to cl
 ean a route)\n 	Chalk\, if you have*\n\n*Gear can be borrowed at the Gear
  Cupboard at UNSW usually on Thursdays 5-6pm. Check Facebook for the la
 test details. You don’t need to pay for rental\, but bring cash for a de
 posit\n\nAnd don’t forget:\n\n 	Sunscreen/hat\n 	2L water\n 	Food and sn
 acks for the day\n 	Sports clothes and comfy shoes\n 	Warm clothes!!! Idea
 lly a fleece + down jacket. It gets real cold up here\n 	Daypack big enoug
 h to fit all of the above inside\n\n&nbsp\;\n\nPlease include in the comme
 nts: your climbing experience\, your favourite flavour of milk\, and if yo
 u have a car (if so\, how many extra spots)!\n\n&nbsp\;\n\nIf you have any
  questions\, feel free to message us on Facebook - Mali Woods or Angela Ha
 .\nHope to see you guys there 🙂
CATEGORIES:Climbing,Outdoor Climbing
LOCATION:https://www.google.com/maps/place/Sublime+Point+Lookout/@-33.73748
 08,150.3363132,17z/data=!3m1!4b1!4m6!3m5!1s0x6b126ed02827c415:0x57606d5e72
 145c3c!8m2!3d-33.7374808!4d150.3385019!16s%2Fg%2F11dx8khfxm?entry=ttu
END:VEVENT
BEGIN:VTIMEZONE
TZID:Australia/Sydney
X-LIC-LOCATION:Australia/Sydney
BEGIN:STANDARD
DTSTART:20230402T020000
TZOFFSETFROM:+1100
TZOFFSETTO:+1000
TZNAME:AEST
END:STANDARD
END:VTIMEZONE
END:VCALENDAR