BEGIN:VCALENDAR
VERSION:2.0
PRODID:-//wp-events-plugin.com//7.2.3.1//EN
TZID:Australia/Sydney
X-WR-TIMEZONE:Australia/Sydney
BEGIN:VEVENT
UID:3492@unswoc.org
DTSTART;TZID=Australia/Sydney:20241012T080000
DTEND;TZID=Australia/Sydney:20241012T150000
DTSTAMP:20241002T222744Z
URL:https://unswoc.org/wordpress/events/sport-climbing-beginner-medlow-bat
 h/
SUMMARY:[FULL] SATURDAY BL - MEDLOW BATH - Sport Climbing Beginner
DESCRIPTION:Hey legends!\n\nKeith and I (Hamza) are heading to Medlow Bath 
 for an epic climbing day\, with Hamish as our awesome TILT! If you’re ke
 en on a day filled with scenic views\, awesome sport climbing routes\, and
  great company\, this is the trip for you.\n\nNo experience? No worries! T
 his trip is perfect for beginners looking to try outdoor climbing in a fun
 \, supportive environment.\n\nTrip Details:\n\n 	Date: 12/10/24\n 	Meeting
  Location: Medlow Bath Crag\n 	Meeting Time: 8:00 AM\n 	Wrap-up Time: Arou
 nd 3:00 PM\n 	What to Bring:\n\n 	Water (at least 1L) - CRITICAL\n 	Lunch 
 &amp\; snacks - CRITICAL\n 	Helmet*\n 	Harness*\n 	Belay device &amp\; car
 abiner*\n 	Climbing shoes* (optional\, but highly recommended)\n 	Sunscree
 n &amp\; sun-appropriate clothing (hat!)\n 	Weather-appropriate gear (it c
 ould get chilly!)\n\n\n\n(*items can be borrowed)\n\nBefore we dive into c
 arpooling and gear logistics\, let’s keep things fun – what's your go-
 to pre-climb snack and why? Let us know when you comment below!\n\nComment
  below if you need any gear or can help with carpooling! We’ll figure ou
 t transport once the group is set.\n\nSpots are limited\, so don’t wait!
  You must answer the hidden question to secure a spot!\n\nCan’t wait to 
 climb with you!\n\n 	Hamza\, Keith &amp\; Hamish (TILT) 🚀\n\n&nbsp\;\n\
 nYou need to be approved for the main Boree Log event to attend these trip
 s. Please sign up for only ONE trip per day. If you get rejected you can t
 hen sign up for another trip\, this just makes it easier for volunteer tri
 p leaders. Please be aware that as the weather is unpredictable\, trip lea
 ders may need to alter trips accordingly
LOCATION:https://maps.app.goo.gl/Sc5sBNvSDBqsWrQA8
END:VEVENT
BEGIN:VTIMEZONE
TZID:Australia/Sydney
X-LIC-LOCATION:Australia/Sydney
BEGIN:DAYLIGHT
DTSTART:20241006T030000
TZOFFSETFROM:+1000
TZOFFSETTO:+1100
TZNAME:AEDT
END:DAYLIGHT
END:VTIMEZONE
END:VCALENDAR