BEGIN:VCALENDAR
VERSION:2.0
PRODID:-//wp-events-plugin.com//7.2.3.1//EN
TZID:Australia/Sydney
X-WR-TIMEZONE:Australia/Sydney
BEGIN:VEVENT
UID:3381@unswoc.org
DTSTART;TZID=Australia/Sydney:20240229T180000
DTEND;TZID=Australia/Sydney:20240229T200000
DTSTAMP:20240227T070455Z
URL:https://unswoc.org/wordpress/events/sport-climbing-basics-the-ledge-2/
SUMMARY:Sport Climbing Basics @ the Ledge
DESCRIPTION:Hey Everyone!\n\nThis Thursday at the Ledge Gabriel and I (Amel
 ia) will be running a sport climbing basics training workshop. This sessio
 n will be aimed primarily at those looking to transition from indoor climb
 ing to outdoor self-sufficiency. Outdoors experience is not required to at
 tend.\n\nSome of the skills we’re aiming to cover include lead belaying\
 , clipping\, falling\, cleaning anchors\, and other helpful tips and trick
 s. We acknowledge that it will be difficult to cover everything required f
 or you to go outside and start climbing by yourself\, but hopefully\, this
  can be a good step in the right direction.\n\nPlease only sign up if you'
 re already quite comfortable top rope climbing and belaying indoors and/or
  outdoors. Note that this is NOT a learn to climb session!\n\nBring along 
 whatever relevant gear you currently own\, the rest will be provided by us
 . In the comments let me know your current experience level\, what gear y
 ou have and what you’d be looking to get out of this training.\n\nThere 
 is limited capacity for this training class so please only sign up if you 
 know you can make it.\n\n&nbsp\;\n\n\nGabriel crushing it at Bardens on Wa
 y of All Flesh\nPre-reading:\n\nThese articles cover most of the theory we
 ’ll go over on Thursday\, reading them before will help you understand t
 he concepts on the day.\n\n 	Lead climbing\n 	Lead belaying\n 	Belaying wi
 th a GriGri\n 	Cleaning sport routes\n 	Club document on lead climbing \n
 \n&nbsp\;\n\nSee you there!\n\n&nbsp\;\n\n(Thanks Mali for the template)
CATEGORIES:Climbing,Training
LOCATION:https://maps.app.goo.gl/HrEEdPHFFAZzk9kS8
END:VEVENT
BEGIN:VTIMEZONE
TZID:Australia/Sydney
X-LIC-LOCATION:Australia/Sydney
BEGIN:DAYLIGHT
DTSTART:20231001T030000
TZOFFSETFROM:+1000
TZOFFSETTO:+1100
TZNAME:AEDT
END:DAYLIGHT
END:VTIMEZONE
END:VCALENDAR