BEGIN:VCALENDAR
VERSION:2.0
PRODID:-//wp-events-plugin.com//7.2.3.1//EN
TZID:Australia/Sydney
X-WR-TIMEZONE:Australia/Sydney
BEGIN:VEVENT
UID:2195@unswoc.org
DTSTART;VALUE=DATE:20171029
DTEND;VALUE=DATE:20171030
DTSTAMP:20171019T022227Z
URL:https://unswoc.org/wordpress/events/sport-climbing-bardens-sunday-bore
 e-log/
SUMMARY:Sport Climbing @Bardens - SUNDAY BOREE LOG
DESCRIPTION:Hi everyone! Get ready for a great day of climbing\, destroy yo
 ur fingers skin\, and get icecream and glory!\n\nKieran\, Nicola and I are
  running a sport climbing trip to Bardens Lookout on SUNDAY for Boree Log
 . You must be approved for Boree Log to attend. Bardens is a great place f
 or both beginners and intermediate climbers (have a look at the crag! http
 s://www.thecrag.com/climbing/australia/blue-mountains/bardens-lookout) and
  no technical skills are needed since we will set up top ropes and teach t
 he basic knots. However\, you should be able to top-rope AT LEAST 16-18 IN
 DOORS to make the most of it!! If you are a competent leader and would li
 ke to climb harder\, that's perfect! If you are building up your confidenc
 e in leading you may get the chance to lead some easy grades as well\, jus
 t let us know!\n\nIf you are in\, you will need:\n\n	Climbing shoes*\n	1 l
 ocking carabiners*\n	1 ATC/belay device*\n	Harness*\n	Helmet*\n	Chalk (opt
 ional)\n	Water (2L)\n	Lunch and snacks - be generous with snacks\, if I ge
 t hungry I get grumpy\n	Jacket cos it does get cold\n	Sunscreen\n	$5-$10 i
 n cash - Petrol money for your driver\n\n*Can be borrowed from the club on
  Sunday morning. We will arrange the gear together. If you have your own g
 ear\, PLEASE BRING IT since the club has limited supplies :)\n\nLast thing
 \, please leave in the comment section:\n\n	Your skill level (grades you'r
 e comfortable with/do you know how to lead?)\n	Your car status (do you nee
 d a lift or do you have a car?)\n\nAdios amigos! Nos vemos pronto!\n\nMari
 a (Maria Lastra Cagigas on fb if you have any questions!)
CATEGORIES:Outdoor Climbing
END:VEVENT
END:VCALENDAR