BEGIN:VCALENDAR
VERSION:2.0
PRODID:-//wp-events-plugin.com//7.2.3.1//EN
TZID:Australia/Sydney
X-WR-TIMEZONE:Australia/Sydney
BEGIN:VEVENT
UID:3298@unswoc.org
DTSTART;TZID=Australia/Sydney;VALUE=DATE:20230813
DTEND;TZID=Australia/Sydney;VALUE=DATE:20230814
DTSTAMP:20230802T022948Z
URL:https://unswoc.org/wordpress/events/sport-climbing-at-shipley-sunday-1
 3th-august/
SUMMARY:Sport Climbing at Shipley - Sunday 13th August
DESCRIPTION:Hey everyone!\n\nLucas and I will be heading to Shipley Upper\,
  a crag in the Blue Mountains. This is a good opportunity get started with
  outdoor climbing or to develop extra skills. Grades are around 17-22 and 
 we can take about 8 people. We aim to meet at 10am at the Centennial Glen 
 Carpark.\n\n[caption id="attachment_15361" align="aligncenter" width="829"
 ] Gabriel on Pallets of Pies[/caption]\n\nNote: The trip will go ahead dep
 ending on the weather\, we’ll make a call closer to the date.\n\nPlease 
 bring the following:\n\n 	Harness*\n 	Helmet*\n 	Climbing shoes*\n 	Belay 
 device + locking carabiner* (e.g. ATC\, GriGri)\n 	Safety sling + locking 
 carabiner* (if you want to learn how to clean a route)\n 	Chalk\n 	Headtor
 ch (incase we walk out in the dark)\n\n*Gear can be borrowed at the Gear C
 upboard at UNSW usually on Thursdays 5-6pm. Check Facebook for the latest
  details. You don’t need to pay for rental\, but bring cash for a deposi
 t\n\nAnd don’t forget:\n\n 	Sunscreen/hat\n 	Lots of water\n 	Food and s
 nacks for the day\n 	Sporty clothes and comfy shoes (10-15 minutes walk fr
 om the carpark)\n 	Warm jumper\n 	Daypack to fit all of the above inside\n
 \nPlease include in your signup comment: your climbing experience\, a Nati
 onal Park you are keen to visit\, and if you have a car for the day!\n\nAn
 y questions\, message us on Facebook.\n\nOnce you have been accepted to th
 is trip\, you'll be added to a Messenger group chat so we can organise car
 pooling. Make sure to link your Facebook profile in settings and check you
 r message requests.\n\nHope to see you guys there 🙂\n\n-Linna
CATEGORIES:Climbing,Outdoor Climbing
LOCATION:https://maps.app.goo.gl/ZzADBwHZ3yWw81hH8?g_st=ic
END:VEVENT
BEGIN:VTIMEZONE
TZID:Australia/Sydney
X-LIC-LOCATION:Australia/Sydney
BEGIN:STANDARD
DTSTART:20230402T020000
TZOFFSETFROM:+1100
TZOFFSETTO:+1000
TZNAME:AEST
END:STANDARD
END:VTIMEZONE
END:VCALENDAR