BEGIN:VCALENDAR
VERSION:2.0
PRODID:-//wp-events-plugin.com//7.2.3.1//EN
TZID:Australia/Sydney
X-WR-TIMEZONE:Australia/Sydney
BEGIN:VEVENT
UID:3297@unswoc.org
DTSTART;TZID=Australia/Sydney;VALUE=DATE:20230729
DTEND;TZID=Australia/Sydney;VALUE=DATE:20230730
DTSTAMP:20230727T005620Z
URL:https://unswoc.org/wordpress/events/sport-climbing-at-mount-york/
SUMMARY:Sport Climbing at Mount York [TRIP FULL]
DESCRIPTION:Hey everyone!\n\nMali and I will be heading to Mount York\, a 
 crag in the Blue Mountains\, likely climbing at Mezzaluna and Deep Freeze 
 areas this upcoming Saturday. This is a rescheduled trip from last weekend
 's postponed one\, so those who were accepted last week will get priority 
 and extra spots will be filled after. Everyone is welcome\, no previous ex
 perience is required as we can teach you everything you need to know on th
 e day and set up top ropes for everyone! It's a great opportunity to head 
 outdoors for the first time\, we're keen to teach anything people are keen
  to know!\n\nNote: The trip will go ahead depending on the weather\, we’
 ll make a call closer to the date.\n\n[caption id="attachment_15332" align
 ="alignnone" width="296"] Cool pic of Ben Trovato wall![/caption]\n\n&nbsp
 \;\n\nPlease bring the following:\n\n 	Harness*\n 	Helmet*\n 	Climbing sho
 es*\n 	Belay device + locking carabiner* (e.g. ATC\, GriGri)\n 	Safety sli
 ng + locking carabiner* (if you want to learn how to clean a route)\n 	Cha
 lk\, if you have*\n\n*Gear can be borrowed at the Gear Cupboard at UNSW 
 usually on Thursdays 5-6pm. Check Facebook for the latest details. You d
 on’t need to pay for rental\, but bring cash for a deposit\n\nAnd don’
 t forget:\n\n 	Sunscreen/hat\n 	2L water\n 	Food and snacks for the day\n 
 	Sports clothes and comfy shoes\n 	Warm clothes!!! Ideally a fleece + down
  jacket. It gets real cold up here\n 	Daypack big enough to fit all of the
  above inside\n\n&nbsp\;\n\nPlease include in the comments: your climbing 
 experience\, the best kind of juice\, and if you have a car (if so\, how m
 any extra spots)!\n\n&nbsp\;\n\nIf you have any questions\, feel free to m
 essage us on Facebook – Mali Woods or Angela Ha.\nHope to see you guys t
 here 🙂\n
CATEGORIES:Climbing,Outdoor Climbing
LOCATION:https://www.google.com/maps?rlz=1C5CHFA_enAU780AU780&output=search
 &q=mount+york&source=lnms&entry=mc&sa=X&ved=2ahUKEwi9xYOU86aAAxVHgVYBHT1oD
 64Q0pQJegQIDRAB
END:VEVENT
BEGIN:VTIMEZONE
TZID:Australia/Sydney
X-LIC-LOCATION:Australia/Sydney
BEGIN:STANDARD
DTSTART:20230402T020000
TZOFFSETFROM:+1100
TZOFFSETTO:+1000
TZNAME:AEST
END:STANDARD
END:VTIMEZONE
END:VCALENDAR