BEGIN:VCALENDAR
VERSION:2.0
PRODID:-//wp-events-plugin.com//7.2.3.1//EN
TZID:Australia/Sydney
X-WR-TIMEZONE:Australia/Sydney
BEGIN:VEVENT
UID:2869@unswoc.org
DTSTART;VALUE=DATE:20180611
DTEND;VALUE=DATE:20180612
DTSTAMP:20210225T034657Z
URL:https://unswoc.org/wordpress/events/sport-climbing-at-medlow/
SUMMARY:Sport Climbing at Medlow!
DESCRIPTION:\n\nSport climbing at Medlow Bath in the Blue Mountains on Mond
 ay!!!\n\nLooking for a good way to spend your long weekend? Look no furthe
 r than sport climbing in the Blue Mountains :D\n\nIf you'd like to come ma
 ke sure to send me a fb message with the following details:\n\n1) Do you n
 eed any climbing gear?\n\n2) Do you have a car?\n\n3) Your climbing level/
 experience\n\nKit list:\n\n 	Climbing shoes (can be borrowed from the club
 )\n 	Climbing helmet (can be borrowed)\n 	Harness (can be borrowed)\n 	Bel
 ay device and locking carabiner (can be borrowed)\n 	Food and water for th
 e day. At least 1.5L of water\n 	Walking shoes\n 	Warm clothes\, it may be
  cold\n 	Backpack for all of the above\n 	Any personal climbing gear you o
 wn\n\nSee you there!
CATEGORIES:Outdoor Climbing
END:VEVENT
END:VCALENDAR