BEGIN:VCALENDAR
VERSION:2.0
PRODID:-//wp-events-plugin.com//7.2.3.1//EN
TZID:Australia/Sydney
X-WR-TIMEZONE:Australia/Sydney
BEGIN:VEVENT
UID:3300@unswoc.org
DTSTART;TZID=Australia/Sydney:20230826T100000
DTEND;TZID=Australia/Sydney:20230826T173000
DTSTAMP:20230826T003046Z
URL:https://unswoc.org/wordpress/events/sport-climbing-at-elanora-heights/
SUMMARY:Sport Climbing at Elanora Heights
DESCRIPTION:\n\n\n\nHey everyone!\n&nbsp\;\n\n\n\nJayden and I (Nic) will b
 e leading a beginner-friendly trip to Elanora Heights in North Sydney.\nTh
 is is a lovely crag with a very short walk-in and grades from 17+ - perfec
 t for beginner and intermediate climbers! 😊 It is probably best that yo
 u have climbed a little bit before\, gym or outdoors\, as there is nothing
  easier than grade 17. We're happy to set up topropes for you\, as well as
  supervise and teach lead belay or any other climbing skills you wanted to
  practice.\n&nbsp\;\nWe'll aim to meet at 10:00am - remember to follow the
  parking instructions on The Crag (DO NOT PARK OPPOSITE THE HOUSES ON AMAR
 OO AVE! Go to the next street if there is no parking\, it's a short walk!)
 \n\n\n\n\n\n\n\n\n\n\n\n\n\nYou will need:\n\n 	Climbing gear:\n\n 	A harn
 ess*\n 	helmet*\,\n 	climbing shoes*\n 	belay device (usually ATC and lock
 ing carabiner)*\n 	chalk bag\n\n\n 	For clothing: Sport clothes. It can g
 et quite hot or quite chilly\, so be prepared for both.\n 	For sustenance:
  2L of water\, lunch and snacks\, chocolate for group/trip leaders 😉\n 
 	Other gear: Sunscreen\, medicines if you need them (asthma puffer\, etc)
 .\n\n&nbsp\;\n\n* = Gear can be borrowed at the Gear Cupboard at UNSW usu
 ally on Thursdays 5-6pm. Check Facebook for the latest details. You don
 ’t need to pay for rental\, but bring cash for a deposit\n\n&nbsp\;\n\nW
 rite down in the comments below what gear you need\, your favourite plant 
 or animal\, your experience\, and whether you want to learn to lead climb!
 \n\nIf you have any questions\, message Jayden Maisel or myself (Nicolas D
 i Campli) on Facebook Messenger. We will organise carpooling via Facebook\
 , so ensure you have a link to your Facebook in your profile\, and be sure
  to check your message requests.\n\n\nSee you there\, get stoked! 😊\n\n
 &nbsp\;\n\n- Nic\n\n\n\n\n
ATTACH;FMTTYPE=image/jpeg:https://unswoc.org/wordpress/wp-content/uploads/
 2023/08/Nic-on-Cuckoos-Nest.jpg
CATEGORIES:Climbing,Outdoor Climbing
LOCATION:https://goo.gl/maps/DDNpucChuVpVwSwB7
END:VEVENT
BEGIN:VTIMEZONE
TZID:Australia/Sydney
X-LIC-LOCATION:Australia/Sydney
BEGIN:STANDARD
DTSTART:20230402T020000
TZOFFSETFROM:+1100
TZOFFSETTO:+1000
TZNAME:AEST
END:STANDARD
END:VTIMEZONE
END:VCALENDAR