BEGIN:VCALENDAR
VERSION:2.0
PRODID:-//wp-events-plugin.com//7.2.3.1//EN
TZID:Australia/Sydney
X-WR-TIMEZONE:Australia/Sydney
BEGIN:VEVENT
UID:3314@unswoc.org
DTSTART;TZID=Australia/Sydney:20230917T083000
DTEND;TZID=Australia/Sydney:20230917T180000
DTSTAMP:20230912T052515Z
URL:https://unswoc.org/wordpress/events/sport-climbing-at-dam-cliffs/
SUMMARY:[FULL] Sport Climbing at Dam Cliffs
DESCRIPTION:Hey everyone!\n\nPat and I (Amelia) will be leading a beginner 
 sport climbing trip to Dam Cliffs in the Blue Mountains this Sunday (17/9/
 23). No previous climbing experience is required as we can teach you on th
 e day. Dam Cliffs is a great place to learn with lots of easy to intermedi
 ate grades (also a great place to learn lead climbing) and we can end the 
 day with a swim and some deep water soloing if you're keen!\n\nThe plan is
  to meet at Dam Cliffs early on Sunday morning\, and climb until late in t
 he afternoon. We will arrange car-pooling so please mention in the sign up
  comment if you have a car and how many people you can take.\n\n\n\nGear y
 ou will need (which can be borrowed from the UNSWOC gear cupboard):\n\n 	H
 arness\n 	Helmet\n 	Belay device + locking carabiner (ATC\, Gri Gri etc. )
 \n 	Safety sling + locking carabiner (optional - if you are interested in 
 learning to clean a route)\n 	Climbing shoes\n 	Chalk\, if you have it (ca
 n't be borrowed from gear cupboard)\n\nGear cupboard will be open on Thurs
 day 5-6pm (check facebook for reminder post and details). There are no ren
 tal fees for club trips but you will need to bring a CASH deposit (around 
 $40 for all this).\n\nYou will also need:\n\n 	2L water\n 	sunscreen\n 	sw
 immers and towel if you plan on swimming/deep water soloing\n 	food and sn
 acks for the day\n 	warm clothes\n\nWe can only take a limited number of p
 eople on this trip so get in quick and please include in the comments your
  experience\, if you have a car\, and your favourite beach :))\n\nIf you h
 ave any questions\, feel free to message Pat or I on Facebook.\n\n&nbsp\;\
 n\nHope to see you there\,\n\nAmelia
CATEGORIES:Outdoor Climbing
LOCATION:https://www.google.com.au/maps/place/Dam+Cliffs/@-33.4842434,150.2
 471201,1104m/data=!3m1!1e3!4m15!1m8!3m7!1s0x6b127564d194c751:0x58011055137
 2675f!2sDam+Clfs,+Dargan+NSW+2786!3b1!8m2!3d-33.4836632!4d150.2474364!16s%
 2Fg%2F11gbkvvjq_!3m5!1s0x6b127560f1369bf5:0xc730b7fcab61f218!8m2!3d-33.483
 3877!4d150.2498072!16s%2Fg%2F1pw3yc30n?entry=ttu
END:VEVENT
BEGIN:VTIMEZONE
TZID:Australia/Sydney
X-LIC-LOCATION:Australia/Sydney
BEGIN:STANDARD
DTSTART:20230402T020000
TZOFFSETFROM:+1100
TZOFFSETTO:+1000
TZNAME:AEST
END:STANDARD
END:VTIMEZONE
END:VCALENDAR