BEGIN:VCALENDAR
VERSION:2.0
PRODID:-//wp-events-plugin.com//7.2.3.1//EN
TZID:Australia/Sydney
X-WR-TIMEZONE:Australia/Sydney
BEGIN:VEVENT
UID:3573@unswoc.org
DTSTART;TZID=Australia/Sydney:20250405T100000
DTEND;TZID=Australia/Sydney:20250405T160000
DTSTAMP:20250330T104107Z
URL:https://unswoc.org/wordpress/events/sport-climbing-at-berowra-saturday
 -5th-april/
SUMMARY:[FULL] Sport Climbing at Berowra - Saturday 5th April
DESCRIPTION:Hey Everyone!\n\nThis Saturday April 5th\, Gabriel and I (Ameli
 a V) will be leading a beginner friendly sport climbing trip to Berowra (w
 eather permitting!). It's a great place for all skill and experience level
 s as there are a range of grades and styles. We will be setting up top rop
 es for most the climbs so no experience is required\, only a keen attitude
 !\n\nThe trip leaders will review all trip sign ups and you'll receive an 
 automated email if you get accepted or rejected for the trip. If you've be
 en accepted\, check Messenger as the trip leaders will make a group chat w
 ith all the participants. If you're having issues signing up\, check that 
 you're logged in and have a paid membership. In terms of transport\, we wi
 ll organise carpooling in the group chat. This will be an all day adventur
 e\, so that means we will depart in the morning\, and will finish up in th
 e afternoon.\n\nIf you'd like to check out some of the routes on the crag\
 , click HERE\n\n\n\n[caption id="attachment_18290" align="alignright" widt
 h="263"] Your friendly neighbourhood trip leader :))[/caption]\n\nThings t
 o bring:\n\n 	Harness*\n 	Helmet*\n 	ATC with a carabiner*\n 	Safety sling
 *\n 	Climbing shoes\n 	Lunch\, snacks\n 	At least 2L Water\n 	Hat\, sunscr
 een \n 	Jacket\, just in case\n 	Medications if you need them (asthma puff
 er etc.)\n 	Any sport climbing gear you may own\n 	Good vibes!\n\n* Gear c
 an be borrowed from the gear cupboard\, usually on Thursday 4-5pm. Please 
 check UNSWOC Facebook page for latest gear shed details\n\n\n\nIf you'd li
 ke to come along\, in the comment box below\, please put your climbing exp
 erience\, what suburb you're headed from if you're driving\, and let us kn
 ow what the ultimate Boree Log/Party theme would be! (Yes\, I just want id
 eas). \n\nPlease ensure your messenger/facebook profile link is in your ac
 count profile\, otherwise also include it in your comment (so we can get i
 n contact with you if you're approved).\n\nAlso\, if you're keen to learn 
 any new skills outside of top rope climbing (lead climbing/belaying\, asce
 nding\, abseiling\, cleaning anchors\, etc.)\, let us know in the comment 
 box! If we get time\, we're more than happy to teach!\n\n\n\nIf you have a
 ny questions\, feel free to reach out to Gabriel or myself on messenger\, 
 or email me at president@unswoc.org
CATEGORIES:Outdoor Climbing
LOCATION:https://www.google.com/maps/dir/?api=1&destination=-33.603305,151.
 147728
END:VEVENT
BEGIN:VTIMEZONE
TZID:Australia/Sydney
X-LIC-LOCATION:Australia/Sydney
BEGIN:DAYLIGHT
DTSTART:20241006T030000
TZOFFSETFROM:+1000
TZOFFSETTO:+1100
TZNAME:AEDT
END:DAYLIGHT
END:VTIMEZONE
END:VCALENDAR