BEGIN:VCALENDAR
VERSION:2.0
PRODID:-//wp-events-plugin.com//7.2.3.1//EN
TZID:Australia/Sydney
X-WR-TIMEZONE:Australia/Sydney
BEGIN:VEVENT
UID:2993@unswoc.org
DTSTART;TZID=Australia/Sydney:20220407T193000
DTEND;TZID=Australia/Sydney:20220407T203000
DTSTAMP:20220405T094131Z
URL:https://unswoc.org/wordpress/events/sport-anchors-the-ledge/
SUMMARY:Sport Anchors @ The Ledge
DESCRIPTION:NOTE: If you would like to come to the anchor workshop\, you wi
 ll also need to sign up for the Ledge night event on Thursday!\n\nThis Thu
 rsday there will be a workshop on suitable anchors for outdoor sport climb
 ing routes! Open to all\, whether or not you've been climbing outdoors bef
 ore or are just keen to learn about how your trip leaders set up those top
  ropes on club trips.\n\nThe workshop will be in person at the Ledge on Th
 ursday 7th April\, starting at 7.30pm. Feel free to arrive earlier and get
  some climbing in beforehand :)\n\nAny questions\, shoot me a message on f
 acebook :)\n\n&nbsp\;\n\n[caption id="attachment_13672" align="aligncenter
 " width="300"] image from: https://www.rei.com/learn/expert-advice/set-and
 -clean-anchors.html[/caption]
CATEGORIES:Training
END:VEVENT
BEGIN:VTIMEZONE
TZID:Australia/Sydney
X-LIC-LOCATION:Australia/Sydney
BEGIN:STANDARD
DTSTART:20220403T020000
TZOFFSETFROM:+1100
TZOFFSETTO:+1000
TZNAME:AEST
END:STANDARD
END:VTIMEZONE
END:VCALENDAR