BEGIN:VCALENDAR
VERSION:2.0
PRODID:-//wp-events-plugin.com//7.2.3.1//EN
TZID:Australia/Sydney
X-WR-TIMEZONE:Australia/Sydney
BEGIN:VEVENT
UID:3708@unswoc.org
DTSTART;TZID=Australia/Sydney;VALUE=DATE:20260201
DTEND;TZID=Australia/Sydney;VALUE=DATE:20260215
DTSTAMP:20260220T121953Z
URL:https://unswoc.org/wordpress/events/southern-ranges-traverse-tasmania/
SUMMARY:Southern Ranges Traverse\, Tasmania [experienced multiday hike]
DESCRIPTION:This trip is finished! Read the trip report here.\n\n\n\nPhoto:
  Pindars Peak from Maxwell Ridge by Garry Hughes on AllTrails (20km into t
 he walk).\n\nNote: not answering the questions will result in an immediate
  rejection.\n\n\n\nHello! Tired of Blue Mountains views and want more? Kee
 n to do an overnight hike? How about 10?\nMyself (Sudarshan)\, Callum\, Ro
 ry\, and Lena are running a trip to Tasmania(!!).\n\nNote: This is a very 
 hard walk.\nWhere/When:\nThe Southern Ranges Traverse. 90km over 9 days.\n
 \nFly out of Sydney on the Monday 2nd February\, back on the Saturday 14th
  in time for Uni.\n\nStart from Ida Bay\, travelling via the mythical Prec
 ipitous Bluff to New River Lagoon. Followed by an 8km wade along the edge 
 of the lagoon to join the second half of the South Coast Track. Map here. 
 Great photos here.\n\nThe route includes multiple scrambles\, off-track bu
 sh bashing\, thick scrub\, exposed cliffs\, and 5 hours of wading on the s
 ide of a lagoon. \nHow to Join:\nRead this document first for all the det
 ails (all 3 pages of it!).\n\nSign ups will open 11am on 27 December to al
 low everyone opportunity to see this post. Further signup details in the d
 ocument.\n\nSign ups close 2nd January.\n\nEdit: Signups have closed. If y
 ou would like to be placed on a waitlist\, please email me below.\n\nIf yo
 u have any issues or queries feel free to email me (Sudarshan) at webadmin
 @unswoc.org or find Callum on Messenger here.
ATTACH;FMTTYPE=image/jpeg:https://unswoc.org/wordpress/wp-content/uploads/
 2025/12/ppk-Large.jpg
CATEGORIES:Bushwalking,Hectic Hiking
LOCATION:https://www.google.com/search?q=southern+ranges+traverse
END:VEVENT
BEGIN:VTIMEZONE
TZID:Australia/Sydney
X-LIC-LOCATION:Australia/Sydney
BEGIN:DAYLIGHT
DTSTART:20251005T030000
TZOFFSETFROM:+1000
TZOFFSETTO:+1100
TZNAME:AEDT
END:DAYLIGHT
END:VTIMEZONE
END:VCALENDAR