BEGIN:VCALENDAR
VERSION:2.0
PRODID:-//wp-events-plugin.com//7.2.3.1//EN
TZID:Australia/Sydney
X-WR-TIMEZONE:Australia/Sydney
BEGIN:VEVENT
UID:1970@unswoc.org
DTSTART:20160309T203000Z
DTEND:20160309T213000Z
DTSTAMP:20160308T043817Z
URL:https://unswoc.org/wordpress/events/south-coogee-death-stairs/
SUMMARY:South Coogee Death Stairs
DESCRIPTION:Come and thrash yourself on the South Coogee Death Stairs for a
  good hill running work-out with a beautiful view over the ocean. Each set
  of 220 steps equals 40m elevation gain\, we'll aim for 5-10 laps. You'll 
 be grateful for it on your next big walk out in the mountains.\n\n&nbsp\;\
 n\nLocation: 15 Denning St\, South Coogee\n\n&nbsp\;\n\nSee you there!\n\n
 https://www.google.com.au/maps/place/South+Coogee+Stairs/@-33.9294968\,151
 .2564481\,17z/data=!3m1!4b1!4m2!3m1!1s0x6b12b2470c3bf557:0xe90a357542b7eb3
 8\n\nAlastair
CATEGORIES:Training
END:VEVENT
END:VCALENDAR